FILENAME: O4710453.NES.1159411.tif
QUADRANGLE_NAME: CLUSTER BUTTES NW
QUADRANT: NE
WEST_LONGITUDE: -104 26 15.00000
EAST_LONGITUDE: -104 22 30.00000
NORTH_LATITUDE: 47 15 0.00000
SOUTH_LATITUDE: 47 11 15.00000
PRODUCTION_DATE: 2001 9 15
RASTER_ORDER: LEFT_RIGHT/TOP_BOTTOM
BAND_ORGANIZATION: SINGLE FILE
BAND_CONTENT: BLACK&WHITE
BAND_CONTENT: UNDEFINED
BAND_CONTENT: UNDEFINED
BITS_PER_PIXEL: 8
SAMPLES_AND_LINES: 5434 7594
HORIZONTAL_DATUM: NAD83
HORIZONTAL_COORDINATE_SYSTEM: UTM
COORDINATE_ZONE: 13
HORIZONTAL_UNITS: meters
HORIZONTAL_RESOLUTION: 1.00000
SECONDARY_HORIZONTAL_DATUM: NAD27
XY_ORIGIN: 542221.00000 5233443.00000
SECONDARY_XY_ORIGIN: 542260.37500 5233223.05600
NATION: US
STATE: MT
NW_QUAD_CORNER_XY: 542564.45100 5233099.74300
NE_QUAD_CORNER_XY: 547293.82100 5233135.73300
SE_QUAD_CORNERY_XY: 547349.43100 5226190.10000
SW_QUAD_CORNER_XY: 542614.50000 5226154.10300
SECONDARY_NW_QUAD_XY: 542565.77000 5232881.10600
SECONDARY_NE_QUAD_XY: 547295.28600 5232917.09700
SECONDARY_SE_QUAD_XY: 547350.89600 5225971.48900
SECONDARY_SW_QUAD_XY: 542615.81800 5225935.49200
RMSE_XY: 1.31000
IMAGE_SOURCE: BLACK AND WHITE FILM
SOURCE_IMAGE_ID: NAPP 9103-024
SOURCE_IMAGE_DATE: 1996 7 15
SOURCE_IMAGE_ID: NAPP 9103-023
SOURCE_IMAGE_DATE: 1996 7 15
SOURCE_IMAGE_ID: NAPP 9103-025
SOURCE_IMAGE_DATE: 1996 7 15
SOURCE_IMAGE_ID: NAPP 9108-095
SOURCE_IMAGE_DATE: 1996 8 8
SOURCE_DEM_DATE: 1999 0 0
AGENCY: WESTERN MAPPING CENTER (WMC)
PRODUCER: WOOLPERT LLP
PRODUCTION_SYSTEM: INTERGRAPH ISPM, ISIR
COMPRESSION: UNDEFINED
STANDARD_VERSION: 1996 12
METADATA_DATE: 2001 9 27
DATA_FILE_SIZE: 41271230
BYTE_COUNT: 5434
