FILENAME: O4710453.SES.1159413.tif
QUADRANGLE_NAME: CLUSTER BUTTES NW
QUADRANT: SE
WEST_LONGITUDE: -104 26 15.00000
EAST_LONGITUDE: -104 22 30.00000
NORTH_LATITUDE: 47 11 15.00000
SOUTH_LATITUDE: 47 7 30.00000
PRODUCTION_DATE: 2001 9 15
RASTER_ORDER: LEFT_RIGHT/TOP_BOTTOM
BAND_ORGANIZATION: SINGLE FILE
BAND_CONTENT: BLACK&WHITE
BAND_CONTENT: UNDEFINED
BAND_CONTENT: UNDEFINED
BITS_PER_PIXEL: 8
SAMPLES_AND_LINES: 5439 7594
HORIZONTAL_DATUM: NAD83
HORIZONTAL_COORDINATE_SYSTEM: UTM
COORDINATE_ZONE: 13
HORIZONTAL_UNITS: meters
HORIZONTAL_RESOLUTION: 1.00000
SECONDARY_HORIZONTAL_DATUM: NAD27
XY_ORIGIN: 542271.00000 5226497.00000
SECONDARY_XY_ORIGIN: 542310.41800 5226277.12900
NATION: US
STATE: MT
NW_QUAD_CORNER_XY: 542614.50000 5226154.10300
NE_QUAD_CORNER_XY: 547349.43100 5226190.10000
SE_QUAD_CORNERY_XY: 547404.98400 5219244.54100
SW_QUAD_CORNER_XY: 542664.49800 5219208.53900
SECONDARY_NW_QUAD_XY: 542615.81800 5225935.49200
SECONDARY_NE_QUAD_XY: 547350.89600 5225971.48900
SECONDARY_SE_QUAD_XY: 547406.44900 5219025.95800
SECONDARY_SW_QUAD_XY: 542665.81600 5218989.95400
RMSE_XY: 1.35000
IMAGE_SOURCE: BLACK AND WHITE FILM
SOURCE_IMAGE_ID: NAPP 9103-022
SOURCE_IMAGE_DATE: 1996 7 15
SOURCE_IMAGE_ID: NAPP 9103-023
SOURCE_IMAGE_DATE: 1996 7 15
SOURCE_IMAGE_ID: NAPP 9108-095
SOURCE_IMAGE_DATE: 1996 8 8
SOURCE_IMAGE_ID: NAPP 9103-021
SOURCE_IMAGE_DATE: 1996 7 15
SOURCE_DEM_DATE: 1999 0 0
AGENCY: WESTERN MAPPING CENTER (WMC)
PRODUCER: WOOLPERT LLP
PRODUCTION_SYSTEM: INTERGRAPH ISPM, ISIR
COMPRESSION: UNDEFINED
STANDARD_VERSION: 1996 12
METADATA_DATE: 2001 9 27
DATA_FILE_SIZE: 41309205
BYTE_COUNT: 5439
