FILENAME: O4710452.SWS.1160731.tif
QUADRANGLE_NAME: BELLE PRAIRIE
QUADRANT: SW
WEST_LONGITUDE: -104 37 30.00000
EAST_LONGITUDE: -104 33 45.00000
NORTH_LATITUDE: 47 11 15.00000
SOUTH_LATITUDE: 47 7 30.00000
PRODUCTION_DATE: 2001 9 21
RASTER_ORDER: LEFT_RIGHT/TOP_BOTTOM
BAND_ORGANIZATION: SINGLE FILE
BAND_CONTENT: BLACK&WHITE
BAND_CONTENT: UNDEFINED
BAND_CONTENT: UNDEFINED
BITS_PER_PIXEL: 8
SAMPLES_AND_LINES: 5424 7582
HORIZONTAL_DATUM: NAD83
HORIZONTAL_COORDINATE_SYSTEM: UTM
COORDINATE_ZONE: 13
HORIZONTAL_UNITS: meters
HORIZONTAL_RESOLUTION: 1.00000
SECONDARY_HORIZONTAL_DATUM: NAD27
XY_ORIGIN: 528065.00000 5226400.00000
SECONDARY_XY_ORIGIN: 528104.63200 5226180.12100
NATION: US
STATE: MT
NW_QUAD_CORNER_XY: 528409.68600 5226068.85000
NE_QUAD_CORNER_XY: 533144.62700 5226093.47800
SE_QUAD_CORNERY_XY: 533183.51300 5219147.90500
SW_QUAD_CORNER_XY: 528443.01700 5219123.27200
SECONDARY_NW_QUAD_XY: 528410.56500 5225850.23600
SECONDARY_NE_QUAD_XY: 533145.65200 5225874.86500
SECONDARY_SE_QUAD_XY: 533184.53900 5218929.31800
SECONDARY_SW_QUAD_XY: 528443.89600 5218904.68400
RMSE_XY: 2.15000
IMAGE_SOURCE: BLACK AND WHITE FILM
SOURCE_IMAGE_ID: NAPP 9108-044
SOURCE_IMAGE_DATE: 1996 8 8
SOURCE_IMAGE_ID: NAPP 9108-043
SOURCE_IMAGE_DATE: 1996 8 8
SOURCE_DEM_DATE: 1999 0 0
AGENCY: WESTERN MAPPING CENTER (WMC)
PRODUCER: WOOLPERT LLP
PRODUCTION_SYSTEM: INTERGRAPH ISPM, ISIR
COMPRESSION: UNDEFINED
STANDARD_VERSION: 1996 12
METADATA_DATE: 2001 10 3
DATA_FILE_SIZE: 41130192
BYTE_COUNT: 5424
