FILENAME: O4710451.NES.1160715.tif
QUADRANGLE_NAME: STIPEK
QUADRANT: NE
WEST_LONGITUDE: -104 41 15.00000
EAST_LONGITUDE: -104 37 30.00000
NORTH_LATITUDE: 47 15 0.00000
SOUTH_LATITUDE: 47 11 15.00000
PRODUCTION_DATE: 2001 9 21
RASTER_ORDER: LEFT_RIGHT/TOP_BOTTOM
BAND_ORGANIZATION: SINGLE FILE
BAND_CONTENT: BLACK&WHITE
BAND_CONTENT: UNDEFINED
BAND_CONTENT: UNDEFINED
BITS_PER_PIXEL: 8
SAMPLES_AND_LINES: 5412 7578
HORIZONTAL_DATUM: NAD83
HORIZONTAL_COORDINATE_SYSTEM: UTM
COORDINATE_ZONE: 13
HORIZONTAL_UNITS: meters
HORIZONTAL_RESOLUTION: 1.00000
SECONDARY_HORIZONTAL_DATUM: NAD27
XY_ORIGIN: 523303.00000 5233321.00000
SECONDARY_XY_ORIGIN: 523342.65800 5233101.03900
NATION: US
STATE: MT
NW_QUAD_CORNER_XY: 523646.93700 5232993.66700
NE_QUAD_CORNER_XY: 528376.32000 5233014.50300
SE_QUAD_CORNERY_XY: 528409.68600 5226068.85000
SW_QUAD_CORNER_XY: 523674.74200 5226048.01000
SECONDARY_NW_QUAD_XY: 523647.67000 5232775.02700
SECONDARY_NE_QUAD_XY: 528377.19900 5232795.86400
SECONDARY_SE_QUAD_XY: 528410.56500 5225850.23600
SECONDARY_SW_QUAD_XY: 523675.47400 5225829.39600
RMSE_XY: 2.22000
IMAGE_SOURCE: BLACK AND WHITE FILM
SOURCE_IMAGE_ID: NAPP 9080-072
SOURCE_IMAGE_DATE: 1996 6 12
SOURCE_IMAGE_ID: NAPP 9080-073
SOURCE_IMAGE_DATE: 1996 6 12
SOURCE_DEM_DATE: 1999 0 0
AGENCY: WESTERN MAPPING CENTER (WMC)
PRODUCER: WOOLPERT LLP
PRODUCTION_SYSTEM: INTERGRAPH ISPM, ISIR
COMPRESSION: UNDEFINED
STANDARD_VERSION: 1996 12
METADATA_DATE: 2001 10 3
DATA_FILE_SIZE: 41017548
BYTE_COUNT: 5412
