FILENAME: O4710448.SWS.1159439.tif
QUADRANGLE_NAME: SKAAR
QUADRANT: SW
WEST_LONGITUDE: -104 7 30.00000
EAST_LONGITUDE: -104 3 45.00000
NORTH_LATITUDE: 47 18 45.00000
SOUTH_LATITUDE: 47 15 0.00000
PRODUCTION_DATE: 2001 9 16
RASTER_ORDER: LEFT_RIGHT/TOP_BOTTOM
BAND_ORGANIZATION: SINGLE FILE
BAND_CONTENT: BLACK&WHITE
BAND_CONTENT: UNDEFINED
BAND_CONTENT: UNDEFINED
BITS_PER_PIXEL: 8
SAMPLES_AND_LINES: 5455 7613
HORIZONTAL_DATUM: NAD83
HORIZONTAL_COORDINATE_SYSTEM: UTM
COORDINATE_ZONE: 13
HORIZONTAL_UNITS: meters
HORIZONTAL_RESOLUTION: 1.00000
SECONDARY_HORIZONTAL_DATUM: NAD27
XY_ORIGIN: 565791.00000 5240625.00000
SECONDARY_XY_ORIGIN: 565830.03200 5240405.05000
NATION: US
STATE: MT
NW_QUAD_CORNER_XY: 566133.31600 5240263.26100
NE_QUAD_CORNER_XY: 570857.09200 5240318.18600
SE_QUAD_CORNERY_XY: 570940.59600 5233372.51800
SW_QUAD_CORNER_XY: 566211.25200 5233317.58300
SECONDARY_NW_QUAD_XY: 566135.36700 5240044.60600
SECONDARY_NE_QUAD_XY: 570859.29000 5240099.53400
SECONDARY_SE_QUAD_XY: 570942.79300 5233153.89000
SECONDARY_SW_QUAD_XY: 566213.30300 5233098.95300
RMSE_XY: 2.38000
IMAGE_SOURCE: BLACK AND WHITE FILM
SOURCE_IMAGE_ID: NAPP 8631-058
SOURCE_IMAGE_DATE: 1995 7 28
SOURCE_IMAGE_ID: NAPP 8631-057
SOURCE_IMAGE_DATE: 1995 7 28
SOURCE_DEM_DATE: 1999 0 0
AGENCY: WESTERN MAPPING CENTER (WMC)
PRODUCER: WOOLPERT LLP
PRODUCTION_SYSTEM: INTERGRAPH ISPM, ISIR
COMPRESSION: UNDEFINED
STANDARD_VERSION: 1996 12
METADATA_DATE: 2001 9 28
DATA_FILE_SIZE: 41534370
BYTE_COUNT: 5455
