FILENAME: O4710447.SES.1159436.tif
QUADRANGLE_NAME: PARSON CREEK
QUADRANT: SE
WEST_LONGITUDE: -104 11 15.00000
EAST_LONGITUDE: -104 7 30.00000
NORTH_LATITUDE: 47 18 45.00000
SOUTH_LATITUDE: 47 15 0.00000
PRODUCTION_DATE: 2001 9 16
RASTER_ORDER: LEFT_RIGHT/TOP_BOTTOM
BAND_ORGANIZATION: SINGLE FILE
BAND_CONTENT: BLACK&WHITE
BAND_CONTENT: UNDEFINED
BAND_CONTENT: UNDEFINED
BITS_PER_PIXEL: 8
SAMPLES_AND_LINES: 5450 7609
HORIZONTAL_DATUM: NAD83
HORIZONTAL_COORDINATE_SYSTEM: UTM
COORDINATE_ZONE: 13
HORIZONTAL_UNITS: meters
HORIZONTAL_RESOLUTION: 1.00000
SECONDARY_HORIZONTAL_DATUM: NAD27
XY_ORIGIN: 561067.00000 5240570.00000
SECONDARY_XY_ORIGIN: 561106.07700 5240350.02800
NATION: US
STATE: MT
NW_QUAD_CORNER_XY: 561409.53300 5240212.12300
NE_QUAD_CORNER_XY: 566133.31600 5240263.26100
SE_QUAD_CORNERY_XY: 566211.25200 5233317.58300
SW_QUAD_CORNER_XY: 561481.90200 5233266.43700
SECONDARY_NW_QUAD_XY: 561411.43800 5239993.46700
SECONDARY_NE_QUAD_XY: 566135.36700 5240044.60600
SECONDARY_SE_QUAD_XY: 566213.30300 5233098.95300
SECONDARY_SW_QUAD_XY: 561483.80700 5233047.80600
RMSE_XY: 2.26000
IMAGE_SOURCE: BLACK AND WHITE FILM
SOURCE_IMAGE_ID: NAPP 9123-111
SOURCE_IMAGE_DATE: 1997 8 3
SOURCE_IMAGE_ID: NAPP 10766-135
SOURCE_IMAGE_DATE: 1998 7 10
SOURCE_IMAGE_ID: NAPP 8631-057
SOURCE_IMAGE_DATE: 1995 7 28
SOURCE_DEM_DATE: 2001 1 1
AGENCY: WESTERN MAPPING CENTER (WMC)
PRODUCER: WOOLPERT LLP
PRODUCTION_SYSTEM: INTERGRAPH ISPM, ISIR
COMPRESSION: UNDEFINED
STANDARD_VERSION: 1996 12
METADATA_DATE: 2001 9 27
DATA_FILE_SIZE: 41474500
BYTE_COUNT: 5450
