FILENAME: O4710447.SWS.1159437.tif
QUADRANGLE_NAME: PARSON CREEK
QUADRANT: SW
WEST_LONGITUDE: -104 15 0.00000
EAST_LONGITUDE: -104 11 15.00000
NORTH_LATITUDE: 47 18 45.00000
SOUTH_LATITUDE: 47 15 0.00000
PRODUCTION_DATE: 2001 9 16
RASTER_ORDER: LEFT_RIGHT/TOP_BOTTOM
BAND_ORGANIZATION: SINGLE FILE
BAND_CONTENT: BLACK&WHITE
BAND_CONTENT: UNDEFINED
BAND_CONTENT: UNDEFINED
BITS_PER_PIXEL: 8
SAMPLES_AND_LINES: 5444 7605
HORIZONTAL_DATUM: NAD83
HORIZONTAL_COORDINATE_SYSTEM: UTM
COORDINATE_ZONE: 13
HORIZONTAL_UNITS: meters
HORIZONTAL_RESOLUTION: 1.00000
SECONDARY_HORIZONTAL_DATUM: NAD27
XY_ORIGIN: 556343.00000 5240519.00000
SECONDARY_XY_ORIGIN: 556382.12300 5240299.00600
NATION: US
STATE: MT
NW_QUAD_CORNER_XY: 556685.74500 5240164.77500
NE_QUAD_CORNER_XY: 561409.53300 5240212.12300
SE_QUAD_CORNERY_XY: 561481.90200 5233266.43700
SW_QUAD_CORNER_XY: 556752.54700 5233219.08000
SECONDARY_NW_QUAD_XY: 556687.50400 5239946.11700
SECONDARY_NE_QUAD_XY: 561411.43800 5239993.46700
SECONDARY_SE_QUAD_XY: 561483.80700 5233047.80600
SECONDARY_SW_QUAD_XY: 556754.30500 5233000.44700
RMSE_XY: 2.19000
IMAGE_SOURCE: BLACK AND WHITE FILM
SOURCE_IMAGE_ID: NAPP 9123-222
SOURCE_IMAGE_DATE: 1997 8 3
SOURCE_DEM_DATE: 2001 1 1
AGENCY: WESTERN MAPPING CENTER (WMC)
PRODUCER: WOOLPERT LLP
PRODUCTION_SYSTEM: INTERGRAPH ISPM, ISIR
COMPRESSION: UNDEFINED
STANDARD_VERSION: 1996 12
METADATA_DATE: 2001 9 18
DATA_FILE_SIZE: 41407064
BYTE_COUNT: 5444
