FILENAME: O4710445.SWS.1160657.tif
QUADRANGLE_NAME: SAVAGE SW
QUADRANT: SW
WEST_LONGITUDE: -104 30 0.00000
EAST_LONGITUDE: -104 26 15.00000
NORTH_LATITUDE: 47 18 45.00000
SOUTH_LATITUDE: 47 15 0.00000
PRODUCTION_DATE: 2001 9 20
RASTER_ORDER: LEFT_RIGHT/TOP_BOTTOM
BAND_ORGANIZATION: SINGLE FILE
BAND_CONTENT: BLACK&WHITE
BAND_CONTENT: UNDEFINED
BAND_CONTENT: UNDEFINED
BITS_PER_PIXEL: 8
SAMPLES_AND_LINES: 5423 7590
HORIZONTAL_DATUM: NAD83
HORIZONTAL_COORDINATE_SYSTEM: UTM
COORDINATE_ZONE: 13
HORIZONTAL_UNITS: meters
HORIZONTAL_RESOLUTION: 1.00000
SECONDARY_HORIZONTAL_DATUM: NAD27
XY_ORIGIN: 537447.00000 5240352.00000
SECONDARY_XY_ORIGIN: 537486.41400 5240131.99500
NATION: US
STATE: MT
NW_QUAD_CORNER_XY: 537790.54400 5240013.26100
NE_QUAD_CORNER_XY: 542514.35100 5240045.45700
SE_QUAD_CORNERY_XY: 542564.45100 5233099.74300
SW_QUAD_CORNER_XY: 537835.07700 5233067.54100
SECONDARY_NW_QUAD_XY: 537791.71700 5239794.59900
SECONDARY_NE_QUAD_XY: 542515.67000 5239826.79600
SECONDARY_SE_QUAD_XY: 542565.77000 5232881.10600
SECONDARY_SW_QUAD_XY: 537836.25000 5232848.90300
RMSE_XY: 1.84000
IMAGE_SOURCE: BLACK AND WHITE FILM
SOURCE_IMAGE_ID: NAPP 9103-025
SOURCE_IMAGE_DATE: 1996 7 15
SOURCE_IMAGE_ID: NAPP 9108-099
SOURCE_IMAGE_DATE: 1996 8 8
SOURCE_IMAGE_ID: NAPP 9108-097
SOURCE_IMAGE_DATE: 1996 8 8
SOURCE_IMAGE_ID: NAPP 9108-064
SOURCE_IMAGE_DATE: 1996 8 8
SOURCE_IMAGE_ID: NAPP 9108-062
SOURCE_IMAGE_DATE: 1996 8 8
SOURCE_DEM_DATE: 1999 0 0
AGENCY: WESTERN MAPPING CENTER (WMC)
PRODUCER: WOOLPERT LLP
PRODUCTION_SYSTEM: INTERGRAPH ISPM, ISIR
COMPRESSION: UNDEFINED
STANDARD_VERSION: 1996 12
METADATA_DATE: 2001 10 3
DATA_FILE_SIZE: 41165993
BYTE_COUNT: 5423
