FILENAME: O4710442.NES.1160626.tif
QUADRANGLE_NAME: MORGAN CREEK SCHOOL
QUADRANT: NE
WEST_LONGITUDE: -104 48 45.00000
EAST_LONGITUDE: -104 45 0.00000
NORTH_LATITUDE: 47 22 30.00000
SOUTH_LATITUDE: 47 18 45.00000
PRODUCTION_DATE: 2001 9 19
RASTER_ORDER: LEFT_RIGHT/TOP_BOTTOM
BAND_ORGANIZATION: SINGLE FILE
BAND_CONTENT: BLACK&WHITE
BAND_CONTENT: UNDEFINED
BAND_CONTENT: UNDEFINED
BITS_PER_PIXEL: 8
SAMPLES_AND_LINES: 5391 7571
HORIZONTAL_DATUM: NAD83
HORIZONTAL_COORDINATE_SYSTEM: UTM
COORDINATE_ZONE: 13
HORIZONTAL_UNITS: meters
HORIZONTAL_RESOLUTION: 1.00000
SECONDARY_HORIZONTAL_DATUM: NAD27
XY_ORIGIN: 513810.00000 5247175.00000
SECONDARY_XY_ORIGIN: 513849.70900 5246954.89200
NATION: US
STATE: MT
NW_QUAD_CORNER_XY: 514154.75000 5246854.91200
NE_QUAD_CORNER_XY: 518872.99800 5246868.16700
SE_QUAD_CORNERY_XY: 518895.28600 5239922.35500
SW_QUAD_CORNER_XY: 514171.46600 5239909.09800
SECONDARY_NW_QUAD_XY: 514155.19000 5246636.22300
SECONDARY_NE_QUAD_XY: 518873.58400 5246649.47800
SECONDARY_SE_QUAD_XY: 518895.87300 5239703.69000
SECONDARY_SW_QUAD_XY: 514171.90600 5239690.43300
RMSE_XY: 1.99000
IMAGE_SOURCE: BLACK AND WHITE FILM
SOURCE_IMAGE_ID: NAPP 9081-032
SOURCE_IMAGE_DATE: 1996 6 12
SOURCE_IMAGE_ID: NAPP 9081-033
SOURCE_IMAGE_DATE: 1996 6 12
SOURCE_IMAGE_ID: NAPP 9081-142
SOURCE_IMAGE_DATE: 1996 6 12
SOURCE_DEM_DATE: 1999 0 0
AGENCY: WESTERN MAPPING CENTER (WMC)
PRODUCER: WOOLPERT LLP
PRODUCTION_SYSTEM: INTERGRAPH ISPM, ISIR
COMPRESSION: UNDEFINED
STANDARD_VERSION: 1996 12
METADATA_DATE: 2001 10 4
DATA_FILE_SIZE: 40820652
BYTE_COUNT: 5391
