FILENAME: O4710442.NWS.1160627.tif
QUADRANGLE_NAME: MORGAN CREEK SCHOOL
QUADRANT: NW
WEST_LONGITUDE: -104 52 30.00000
EAST_LONGITUDE: -104 48 45.00000
NORTH_LATITUDE: 47 22 30.00000
SOUTH_LATITUDE: 47 18 45.00000
PRODUCTION_DATE: 2001 9 19
RASTER_ORDER: LEFT_RIGHT/TOP_BOTTOM
BAND_ORGANIZATION: SINGLE FILE
BAND_CONTENT: BLACK&WHITE
BAND_CONTENT: UNDEFINED
BAND_CONTENT: UNDEFINED
BITS_PER_PIXEL: 8
SAMPLES_AND_LINES: 5385 7568
HORIZONTAL_DATUM: NAD83
HORIZONTAL_COORDINATE_SYSTEM: UTM
COORDINATE_ZONE: 13
HORIZONTAL_UNITS: meters
HORIZONTAL_RESOLUTION: 1.00000
SECONDARY_HORIZONTAL_DATUM: NAD27
XY_ORIGIN: 509092.00000 5247162.00000
SECONDARY_XY_ORIGIN: 509131.77400 5246941.88800
NATION: US
STATE: MT
NW_QUAD_CORNER_XY: 509436.50100 5246845.44500
NE_QUAD_CORNER_XY: 514154.75000 5246854.91200
SE_QUAD_CORNERY_XY: 514171.46600 5239909.09800
SW_QUAD_CORNER_XY: 509447.64500 5239899.62900
SECONDARY_NW_QUAD_XY: 509436.79400 5246626.75500
SECONDARY_NE_QUAD_XY: 514155.19000 5246636.22300
SECONDARY_SE_QUAD_XY: 514171.90600 5239690.43300
SECONDARY_SW_QUAD_XY: 509447.93800 5239680.96300
RMSE_XY: 2.17000
IMAGE_SOURCE: BLACK AND WHITE FILM
SOURCE_IMAGE_ID: NAPP 9081-141
SOURCE_IMAGE_DATE: 1996 6 12
SOURCE_IMAGE_ID: NAPP 9081-142
SOURCE_IMAGE_DATE: 1996 6 12
SOURCE_DEM_DATE: 1999 0 0
AGENCY: WESTERN MAPPING CENTER (WMC)
PRODUCER: WOOLPERT LLP
PRODUCTION_SYSTEM: INTERGRAPH ISPM, ISIR
COMPRESSION: UNDEFINED
STANDARD_VERSION: 1996 12
METADATA_DATE: 2001 10 4
DATA_FILE_SIZE: 40759065
BYTE_COUNT: 5385
