FILENAME: O4710439.NES.1160683.tif
QUADRANGLE_NAME: SKAAR NW
QUADRANT: NE
WEST_LONGITUDE: -104 11 15.00000
EAST_LONGITUDE: -104 7 30.00000
NORTH_LATITUDE: 47 30 0.00000
SOUTH_LATITUDE: 47 26 15.00000
PRODUCTION_DATE: 2001 9 20
RASTER_ORDER: LEFT_RIGHT/TOP_BOTTOM
BAND_ORGANIZATION: SINGLE FILE
BAND_CONTENT: BLACK&WHITE
BAND_CONTENT: UNDEFINED
BAND_CONTENT: UNDEFINED
BITS_PER_PIXEL: 8
SAMPLES_AND_LINES: 5434 7610
HORIZONTAL_DATUM: NAD83
HORIZONTAL_COORDINATE_SYSTEM: UTM
COORDINATE_ZONE: 13
HORIZONTAL_UNITS: meters
HORIZONTAL_RESOLUTION: 1.00000
SECONDARY_HORIZONTAL_DATUM: NAD27
XY_ORIGIN: 560849.00000 5261408.00000
SECONDARY_XY_ORIGIN: 560887.99100 5261187.88900
NATION: US
STATE: MT
NW_QUAD_CORNER_XY: 561191.98600 5261049.63000
NE_QUAD_CORNER_XY: 565899.03100 5261100.73900
SE_QUAD_CORNERY_XY: 565977.20500 5254154.83900
SW_QUAD_CORNER_XY: 561264.57500 5254103.72000
SECONDARY_NW_QUAD_XY: 561193.89200 5260830.90500
SECONDARY_NE_QUAD_XY: 565901.08400 5260882.01600
SECONDARY_SE_QUAD_XY: 565979.25700 5253936.13800
SECONDARY_SW_QUAD_XY: 561266.48100 5253885.01700
RMSE_XY: 2.61000
IMAGE_SOURCE: BLACK AND WHITE FILM
SOURCE_IMAGE_ID: NAPP 9123-117
SOURCE_IMAGE_DATE: 1997 8 3
SOURCE_IMAGE_ID: NAPP 9123-116
SOURCE_IMAGE_DATE: 1997 8 3
SOURCE_DEM_DATE: 2001 1 1
AGENCY: WESTERN MAPPING CENTER (WMC)
PRODUCER: WOOLPERT LLP
PRODUCTION_SYSTEM: INTERGRAPH ISPM, ISIR
COMPRESSION: UNDEFINED
STANDARD_VERSION: 1996 12
METADATA_DATE: 2001 10 3
DATA_FILE_SIZE: 41358174
BYTE_COUNT: 5434
