FILENAME: O4710436.SWS.1160641.tif
QUADRANGLE_NAME: ALLARD RANCH
QUADRANT: SW
WEST_LONGITUDE: -104 37 30.00000
EAST_LONGITUDE: -104 33 45.00000
NORTH_LATITUDE: 47 26 15.00000
SOUTH_LATITUDE: 47 22 30.00000
PRODUCTION_DATE: 2001 9 19
RASTER_ORDER: LEFT_RIGHT/TOP_BOTTOM
BAND_ORGANIZATION: SINGLE FILE
BAND_CONTENT: BLACK&WHITE
BAND_CONTENT: UNDEFINED
BAND_CONTENT: UNDEFINED
BITS_PER_PIXEL: 8
SAMPLES_AND_LINES: 5401 7582
HORIZONTAL_DATUM: NAD83
HORIZONTAL_COORDINATE_SYSTEM: UTM
COORDINATE_ZONE: 13
HORIZONTAL_UNITS: meters
HORIZONTAL_RESOLUTION: 1.00000
SECONDARY_HORIZONTAL_DATUM: NAD27
XY_ORIGIN: 527932.00000 5254183.00000
SECONDARY_XY_ORIGIN: 527971.47200 5253962.85400
NATION: US
STATE: MT
NW_QUAD_CORNER_XY: 528276.02000 5253851.91800
NE_QUAD_CORNER_XY: 532988.68300 5253876.53000
SE_QUAD_CORNERY_XY: 533027.72800 5246930.65400
SW_QUAD_CORNER_XY: 528309.48700 5246906.03800
SECONDARY_NW_QUAD_XY: 528276.90000 5253633.20800
SECONDARY_NE_QUAD_XY: 532989.70900 5253657.82000
SECONDARY_SE_QUAD_XY: 533028.75400 5246711.96700
SECONDARY_SW_QUAD_XY: 528310.36700 5246687.35000
RMSE_XY: 2.66000
IMAGE_SOURCE: BLACK AND WHITE FILM
SOURCE_IMAGE_ID: NAPP 9108-052
SOURCE_IMAGE_DATE: 1996 8 8
SOURCE_DEM_DATE: 1999 0 0
AGENCY: WESTERN MAPPING CENTER (WMC)
PRODUCER: WOOLPERT LLP
PRODUCTION_SYSTEM: INTERGRAPH ISPM, ISIR
COMPRESSION: UNDEFINED
STANDARD_VERSION: 1996 12
METADATA_DATE: 2001 10 3
DATA_FILE_SIZE: 40955783
BYTE_COUNT: 5401
