FILENAME: O4710435.SES.1160632.tif
QUADRANGLE_NAME: INTAKE NW
QUADRANT: SE
WEST_LONGITUDE: -104 41 15.00000
EAST_LONGITUDE: -104 37 30.00000
NORTH_LATITUDE: 47 26 15.00000
SOUTH_LATITUDE: 47 22 30.00000
PRODUCTION_DATE: 2001 9 19
RASTER_ORDER: LEFT_RIGHT/TOP_BOTTOM
BAND_ORGANIZATION: SINGLE FILE
BAND_CONTENT: BLACK&WHITE
BAND_CONTENT: UNDEFINED
BAND_CONTENT: UNDEFINED
BITS_PER_PIXEL: 8
SAMPLES_AND_LINES: 5396 7579
HORIZONTAL_DATUM: NAD83
HORIZONTAL_COORDINATE_SYSTEM: UTM
COORDINATE_ZONE: 13
HORIZONTAL_UNITS: meters
HORIZONTAL_RESOLUTION: 1.00000
SECONDARY_HORIZONTAL_DATUM: NAD27
XY_ORIGIN: 523219.00000 5254159.00000
SECONDARY_XY_ORIGIN: 523258.53700 5253938.84200
NATION: US
STATE: MT
NW_QUAD_CORNER_XY: 523563.35400 5253831.09300
NE_QUAD_CORNER_XY: 528276.02000 5253851.91800
SE_QUAD_CORNERY_XY: 528309.48700 5246906.03800
SW_QUAD_CORNER_XY: 523591.24400 5246885.20900
SECONDARY_NW_QUAD_XY: 523564.08700 5253612.38200
SECONDARY_NE_QUAD_XY: 528276.90000 5253633.20800
SECONDARY_SE_QUAD_XY: 528310.36700 5246687.35000
SECONDARY_SW_QUAD_XY: 523591.97700 5246666.52000
RMSE_XY: 2.30000
IMAGE_SOURCE: BLACK AND WHITE FILM
SOURCE_IMAGE_ID: NAPP 9080-078
SOURCE_IMAGE_DATE: 1996 6 12
SOURCE_DEM_DATE: 1999 0 0
AGENCY: WESTERN MAPPING CENTER (WMC)
PRODUCER: WOOLPERT LLP
PRODUCTION_SYSTEM: INTERGRAPH ISPM, ISIR
COMPRESSION: UNDEFINED
STANDARD_VERSION: 1996 12
METADATA_DATE: 2001 10 4
DATA_FILE_SIZE: 40901680
BYTE_COUNT: 5396
