FILENAME: O4710435.SWS.1160633.tif
QUADRANGLE_NAME: INTAKE NW
QUADRANT: SW
WEST_LONGITUDE: -104 45 0.00000
EAST_LONGITUDE: -104 41 15.00000
NORTH_LATITUDE: 47 26 15.00000
SOUTH_LATITUDE: 47 22 30.00000
PRODUCTION_DATE: 2001 9 19
RASTER_ORDER: LEFT_RIGHT/TOP_BOTTOM
BAND_ORGANIZATION: SINGLE FILE
BAND_CONTENT: BLACK&WHITE
BAND_CONTENT: UNDEFINED
BAND_CONTENT: UNDEFINED
BITS_PER_PIXEL: 8
SAMPLES_AND_LINES: 5391 7575
HORIZONTAL_DATUM: NAD83
HORIZONTAL_COORDINATE_SYSTEM: UTM
COORDINATE_ZONE: 13
HORIZONTAL_UNITS: meters
HORIZONTAL_RESOLUTION: 1.00000
SECONDARY_HORIZONTAL_DATUM: NAD27
XY_ORIGIN: 518506.00000 5254138.00000
SECONDARY_XY_ORIGIN: 518545.60200 5253917.83000
NATION: US
STATE: MT
NW_QUAD_CORNER_XY: 518850.68600 5253814.05500
NE_QUAD_CORNER_XY: 523563.35400 5253831.09300
SE_QUAD_CORNERY_XY: 523591.24400 5246885.20900
SW_QUAD_CORNER_XY: 518872.99800 5246868.16700
SECONDARY_NW_QUAD_XY: 518851.27300 5253595.34300
SECONDARY_NE_QUAD_XY: 523564.08700 5253612.38200
SECONDARY_SE_QUAD_XY: 523591.97700 5246666.52000
SECONDARY_SW_QUAD_XY: 518873.58400 5246649.47800
RMSE_XY: 2.22000
IMAGE_SOURCE: BLACK AND WHITE FILM
SOURCE_IMAGE_ID: NAPP 9080-183
SOURCE_IMAGE_DATE: 1996 6 12
SOURCE_IMAGE_ID: NAPP 9081-033
SOURCE_IMAGE_DATE: 1996 6 12
SOURCE_DEM_DATE: 1999 0 0
AGENCY: WESTERN MAPPING CENTER (WMC)
PRODUCER: WOOLPERT LLP
PRODUCTION_SYSTEM: INTERGRAPH ISPM, ISIR
COMPRESSION: UNDEFINED
STANDARD_VERSION: 1996 12
METADATA_DATE: 2001 10 4
DATA_FILE_SIZE: 40842216
BYTE_COUNT: 5391
