FILENAME: O4710434.SWS.1160625.tif
QUADRANGLE_NAME: RED TOP
QUADRANT: SW
WEST_LONGITUDE: -104 52 30.00000
EAST_LONGITUDE: -104 48 45.00000
NORTH_LATITUDE: 47 26 15.00000
SOUTH_LATITUDE: 47 22 30.00000
PRODUCTION_DATE: 2001 9 19
RASTER_ORDER: LEFT_RIGHT/TOP_BOTTOM
BAND_ORGANIZATION: SINGLE FILE
BAND_CONTENT: BLACK&WHITE
BAND_CONTENT: UNDEFINED
BAND_CONTENT: UNDEFINED
BITS_PER_PIXEL: 8
SAMPLES_AND_LINES: 5380 7568
HORIZONTAL_DATUM: NAD83
HORIZONTAL_COORDINATE_SYSTEM: UTM
COORDINATE_ZONE: 13
HORIZONTAL_UNITS: meters
HORIZONTAL_RESOLUTION: 1.00000
SECONDARY_HORIZONTAL_DATUM: NAD27
XY_ORIGIN: 509080.00000 5254108.00000
SECONDARY_XY_ORIGIN: 509119.72800 5253887.81700
NATION: US
STATE: MT
NW_QUAD_CORNER_XY: 509425.34500 5253791.33600
NE_QUAD_CORNER_XY: 514138.01600 5253800.80200
SE_QUAD_CORNERY_XY: 514154.75000 5246854.91200
SW_QUAD_CORNER_XY: 509436.50100 5246845.44500
SECONDARY_NW_QUAD_XY: 509425.63800 5253572.62400
SECONDARY_NE_QUAD_XY: 514138.45600 5253582.09000
SECONDARY_SE_QUAD_XY: 514155.19000 5246636.22300
SECONDARY_SW_QUAD_XY: 509436.79400 5246626.75500
RMSE_XY: 2.16000
IMAGE_SOURCE: BLACK AND WHITE FILM
SOURCE_IMAGE_ID: NAPP 9081-139
SOURCE_IMAGE_DATE: 1996 6 12
SOURCE_DEM_DATE: 1999 0 0
AGENCY: WESTERN MAPPING CENTER (WMC)
PRODUCER: WOOLPERT LLP
PRODUCTION_SYSTEM: INTERGRAPH ISPM, ISIR
COMPRESSION: UNDEFINED
STANDARD_VERSION: 1996 12
METADATA_DATE: 2001 10 4
DATA_FILE_SIZE: 40721220
BYTE_COUNT: 5380
