FILENAME: O4710430.NES.1160658.tif
QUADRANGLE_NAME: CRANE
QUADRANT: NE
WEST_LONGITUDE: -104 18 45.00000
EAST_LONGITUDE: -104 15 0.00000
NORTH_LATITUDE: 47 37 30.00000
SOUTH_LATITUDE: 47 33 45.00000
PRODUCTION_DATE: 2001 9 20
RASTER_ORDER: LEFT_RIGHT/TOP_BOTTOM
BAND_ORGANIZATION: SINGLE FILE
BAND_CONTENT: BLACK&WHITE
BAND_CONTENT: UNDEFINED
BAND_CONTENT: UNDEFINED
BITS_PER_PIXEL: 8
SAMPLES_AND_LINES: 5411 7602
HORIZONTAL_DATUM: NAD83
HORIZONTAL_COORDINATE_SYSTEM: UTM
COORDINATE_ZONE: 13
HORIZONTAL_UNITS: meters
HORIZONTAL_RESOLUTION: 1.00000
SECONDARY_HORIZONTAL_DATUM: NAD27
XY_ORIGIN: 551312.00000 5275201.00000
SECONDARY_XY_ORIGIN: 551351.07200 5274980.76300
NATION: US
STATE: MT
NW_QUAD_CORNER_XY: 551654.84900 5274850.84800
NE_QUAD_CORNER_XY: 556350.72100 5274894.36900
SE_QUAD_CORNERY_XY: 556417.86100 5267948.30000
SW_QUAD_CORNER_XY: 551716.39400 5267904.77200
SECONDARY_NW_QUAD_XY: 551656.46200 5274632.07900
SECONDARY_NE_QUAD_XY: 556352.48100 5274675.60100
SECONDARY_SE_QUAD_XY: 556419.62100 5267729.55300
SECONDARY_SW_QUAD_XY: 551718.00600 5267686.02300
RMSE_XY: 2.45000
IMAGE_SOURCE: BLACK AND WHITE FILM
SOURCE_IMAGE_ID: NAPP 9124-058
SOURCE_IMAGE_DATE: 1997 8 22
SOURCE_DEM_DATE: 1999 0 0
AGENCY: WESTERN MAPPING CENTER (WMC)
PRODUCER: WOOLPERT LLP
PRODUCTION_SYSTEM: INTERGRAPH ISPM, ISIR
COMPRESSION: UNDEFINED
STANDARD_VERSION: 1996 12
METADATA_DATE: 2001 10 3
DATA_FILE_SIZE: 41139833
BYTE_COUNT: 5411
