FILENAME: O4710427.SES.1163249.tif
QUADRANGLE_NAME: BUTLER TABLE
QUADRANT: SE
WEST_LONGITUDE: -104 41 15.00000
EAST_LONGITUDE: -104 37 30.00000
NORTH_LATITUDE: 47 33 45.00000
SOUTH_LATITUDE: 47 30 0.00000
PRODUCTION_DATE: 2001 9 27
RASTER_ORDER: LEFT_RIGHT/TOP_BOTTOM
BAND_ORGANIZATION: SINGLE FILE
BAND_CONTENT: BLACK&WHITE
BAND_CONTENT: UNDEFINED
BAND_CONTENT: UNDEFINED
BITS_PER_PIXEL: 8
SAMPLES_AND_LINES: 5385 7579
HORIZONTAL_DATUM: NAD83
HORIZONTAL_COORDINATE_SYSTEM: UTM
COORDINATE_ZONE: 13
HORIZONTAL_UNITS: meters
HORIZONTAL_RESOLUTION: 1.00000
SECONDARY_HORIZONTAL_DATUM: NAD27
XY_ORIGIN: 523163.00000 5268051.00000
SECONDARY_XY_ORIGIN: 523202.46600 5267830.70600
NATION: US
STATE: MT
NW_QUAD_CORNER_XY: 523507.49100 5267723.09000
NE_QUAD_CORNER_XY: 528208.98400 5267743.90800
SE_QUAD_CORNERY_XY: 528242.51900 5260797.87500
SW_QUAD_CORNER_XY: 523535.43700 5260777.05400
SECONDARY_NW_QUAD_XY: 523508.22400 5267504.33600
SECONDARY_NE_QUAD_XY: 528209.86400 5267525.15400
SECONDARY_SE_QUAD_XY: 528243.39800 5260579.14300
SECONDARY_SW_QUAD_XY: 523536.17000 5260558.32100
RMSE_XY: 2.41000
IMAGE_SOURCE: BLACK AND WHITE FILM
SOURCE_IMAGE_ID: NAPP 9080-082
SOURCE_IMAGE_DATE: 1996 6 12
SOURCE_IMAGE_ID: NAPP 9080-083
SOURCE_IMAGE_DATE: 1996 6 12
SOURCE_IMAGE_ID: NAPP 9080-178
SOURCE_IMAGE_DATE: 1996 6 12
SOURCE_DEM_DATE: 1999 0 0
AGENCY: WESTERN MAPPING CENTER (WMC)
PRODUCER: WOOLPERT LLP
PRODUCTION_SYSTEM: INTERGRAPH ISPM, ISIR
COMPRESSION: UNDEFINED
STANDARD_VERSION: 1996 12
METADATA_DATE: 2001 10 17
DATA_FILE_SIZE: 40818300
BYTE_COUNT: 5385
