FILENAME: O4710424.NWS.978710.tif
QUADRANGLE_NAME: SIDNEY NE
QUADRANT: NW
WEST_LONGITUDE: -104 7 30.00000
EAST_LONGITUDE: -104 3 45.00000
NORTH_LATITUDE: 47 45 0.00000
SOUTH_LATITUDE: 47 41 15.00000
PRODUCTION_DATE: 1999 01 08
RASTER_ORDER: LEFT_RIGHT/TOP_BOTTOM
BAND_ORGANIZATION: SINGLE FILE
BAND_CONTENT: BLACK&WHITE
BAND_CONTENT: UNDEFINED
BAND_CONTENT: UNDEFINED
BITS_PER_PIXEL: 8
SAMPLES_AND_LINES: 5405 7602
HORIZONTAL_DATUM: NAD83
HORIZONTAL_COORDINATE_SYSTEM: UTM
COORDINATE_ZONE: 13
HORIZONTAL_UNITS: METERS
HORIZONTAL_RESOLUTION: 1.00000
SECONDARY_HORIZONTAL_DATUM: NAD27
XY_ORIGIN: 565249.50000 5289240.50000
SECONDARY_XY_ORIGIN: 565288.37500 5289020.20500
NATION: US
STATE: MT
NW_QUAD_CORNER_XY: 565585.54700 5288885.08600
NE_QUAD_CORNER_XY: 570270.19000 5288939.93800
SE_QUAD_CORNERY_XY: 570354.28700 5281993.75200
SW_QUAD_CORNER_XY: 565664.03600 5281938.88800
SECONDARY_NW_QUAD_XY: 565587.60000 5288666.28300
SECONDARY_NE_QUAD_XY: 570272.39000 5288721.13700
SECONDARY_SE_QUAD_XY: 570356.48700 5281774.96900
SECONDARY_SW_QUAD_XY: 565666.08900 5281720.10400
RMSE_XY: 2.27000
IMAGE_SOURCE: BLACK & WHITE FILM
SOURCE_IMAGE_ID: NAPP 8631 044
SOURCE_IMAGE_DATE: 1995 07 28
SOURCE_DEM_DATE: 1998 01 01
AGENCY: WESTERN MAPPING CENTER (WMC)
PRODUCER: ATLANTIC TECHNOLOGIES
PRODUCTION_SYSTEM: INTERGRAPH MODEL_SETUP, BASE_RECTIFIER
COMPRESSION: UNDEFINED
STANDARD_VERSION: 1996 12
METADATA_DATE: 1999 01 06
DATA_FILE_SIZE: 41094215
BYTE_COUNT: 5405
