FILENAME: O4710423.NES.1134927.tif
QUADRANGLE_NAME: SIDNEY
QUADRANT: NE
WEST_LONGITUDE: -104 11 15.00000
EAST_LONGITUDE: -104 7 30.00000
NORTH_LATITUDE: 47 45 0.00000
SOUTH_LATITUDE: 47 41 15.00000
PRODUCTION_DATE: 2001 3 9
RASTER_ORDER: LEFT_RIGHT/TOP_BOTTOM
BAND_ORGANIZATION: SINGLE FILE
BAND_CONTENT: BLACK&WHITE
BAND_CONTENT: UNDEFINED
BAND_CONTENT: UNDEFINED
BITS_PER_PIXEL: 8
SAMPLES_AND_LINES: 5412 7610
HORIZONTAL_DATUM: NAD83
HORIZONTAL_COORDINATE_SYSTEM: UTM
COORDINATE_ZONE: 13
HORIZONTAL_UNITS: meters
HORIZONTAL_RESOLUTION: 1.00000
SECONDARY_HORIZONTAL_DATUM: NAD27
XY_ORIGIN: 560558.00000 5289192.00000
SECONDARY_XY_ORIGIN: 560596.92500 5288971.70100
NATION: US
STATE: MT
NW_QUAD_CORNER_XY: 560900.89600 5288834.01600
NE_QUAD_CORNER_XY: 565585.54700 5288885.08500
SE_QUAD_CORNERY_XY: 565664.03600 5281938.88700
SW_QUAD_CORNER_XY: 560973.77800 5281887.80700
SECONDARY_NW_QUAD_XY: 560902.80200 5288615.21100
SECONDARY_NE_QUAD_XY: 565587.60000 5288666.28200
SECONDARY_SE_QUAD_XY: 565666.08900 5281720.10300
SECONDARY_SW_QUAD_XY: 560975.68400 5281669.02200
RMSE_XY: 1.84000
IMAGE_SOURCE: BLACK AND WHITE FILM
SOURCE_IMAGE_ID: NAPP 9123-125
SOURCE_IMAGE_DATE: 1997 8 3
SOURCE_DEM_DATE: 2001 1 1
AGENCY: WESTERN MAPPING CENTER (WMC)
PRODUCER: WOOLPERT LLP
PRODUCTION_SYSTEM: INTERGRAPH ISPM, ISIR
COMPRESSION: UNDEFINED
STANDARD_VERSION: 1996 12
METADATA_DATE: 2001 3 9
DATA_FILE_SIZE: 41190732
BYTE_COUNT: 5412
