FILENAME: O4710422.SES.1134921.tif
QUADRANGLE_NAME: CRANE NE
QUADRANT: SE
WEST_LONGITUDE: -104 18 45.00000
EAST_LONGITUDE: -104 15 0.00000
NORTH_LATITUDE: 47 41 15.00000
SOUTH_LATITUDE: 47 37 30.00000
PRODUCTION_DATE: 2001 3 14
RASTER_ORDER: LEFT_RIGHT/TOP_BOTTOM
BAND_ORGANIZATION: SINGLE FILE
BAND_CONTENT: BLACK&WHITE
BAND_CONTENT: UNDEFINED
BAND_CONTENT: UNDEFINED
BITS_PER_PIXEL: 8
SAMPLES_AND_LINES: 5406 7602
HORIZONTAL_DATUM: NAD83
HORIZONTAL_COORDINATE_SYSTEM: UTM
COORDINATE_ZONE: 13
HORIZONTAL_UNITS: meters
HORIZONTAL_RESOLUTION: 1.00000
SECONDARY_HORIZONTAL_DATUM: NAD27
XY_ORIGIN: 551250.00000 5282147.00000
SECONDARY_XY_ORIGIN: 551289.05600 5281926.71600
NATION: US
STATE: MT
NW_QUAD_CORNER_XY: 551593.24200 5281797.00000
NE_QUAD_CORNER_XY: 556283.51300 5281840.51200
SE_QUAD_CORNERY_XY: 556350.72100 5274894.36900
SW_QUAD_CORNER_XY: 551654.84900 5274850.84800
SECONDARY_NW_QUAD_XY: 551594.85500 5281578.21200
SECONDARY_NE_QUAD_XY: 556285.27300 5281621.72500
SECONDARY_SE_QUAD_XY: 556352.48100 5274675.60100
SECONDARY_SW_QUAD_XY: 551656.46200 5274632.07900
RMSE_XY: 2.12000
IMAGE_SOURCE: BLACK AND WHITE FILM
SOURCE_IMAGE_ID: NAPP 9124-060
SOURCE_IMAGE_DATE: 1997 8 22
SOURCE_DEM_DATE: 1999 0 0
AGENCY: WESTERN MAPPING CENTER (WMC)
PRODUCER: WOOLPERT LLP
PRODUCTION_SYSTEM: INTERGRAPH ISPM, ISIR
COMPRESSION: UNDEFINED
STANDARD_VERSION: 1996 12
METADATA_DATE: 2001 3 15
DATA_FILE_SIZE: 41101818
BYTE_COUNT: 5406
