FILENAME: O4710419.NES.1163242.tif
QUADRANGLE_NAME: FOX LAKE
QUADRANT: NE
WEST_LONGITUDE: -104 41 15.00000
EAST_LONGITUDE: -104 37 30.00000
NORTH_LATITUDE: 47 45 0.00000
SOUTH_LATITUDE: 47 41 15.00000
PRODUCTION_DATE: 2001 9 27
RASTER_ORDER: LEFT_RIGHT/TOP_BOTTOM
BAND_ORGANIZATION: SINGLE FILE
BAND_CONTENT: BLACK&WHITE
BAND_CONTENT: UNDEFINED
BAND_CONTENT: UNDEFINED
BITS_PER_PIXEL: 8
SAMPLES_AND_LINES: 5368 7580
HORIZONTAL_DATUM: NAD83
HORIZONTAL_COORDINATE_SYSTEM: UTM
COORDINATE_ZONE: 13
HORIZONTAL_UNITS: meters
HORIZONTAL_RESOLUTION: 1.00000
SECONDARY_HORIZONTAL_DATUM: NAD27
XY_ORIGIN: 523079.00000 5288890.00000
SECONDARY_XY_ORIGIN: 523118.37300 5288669.51400
NATION: US
STATE: MT
NW_QUAD_CORNER_XY: 523423.48500 5288561.65400
NE_QUAD_CORNER_XY: 528108.17600 5288582.45900
SE_QUAD_CORNERY_XY: 528141.81200 5281636.19900
SW_QUAD_CORNER_XY: 523451.51500 5281615.39000
SECONDARY_NW_QUAD_XY: 523424.21800 5288342.84100
SECONDARY_NE_QUAD_XY: 528109.05600 5288363.64700
SECONDARY_SE_QUAD_XY: 528142.69200 5281417.40600
SECONDARY_SW_QUAD_XY: 523452.24800 5281396.59600
RMSE_XY: 2.05000
IMAGE_SOURCE: BLACK AND WHITE FILM
SOURCE_IMAGE_ID: NAPP 9080-088
SOURCE_IMAGE_DATE: 1996 6 12
SOURCE_DEM_DATE: 1999 0 0
AGENCY: WESTERN MAPPING CENTER (WMC)
PRODUCER: WOOLPERT LLP
PRODUCTION_SYSTEM: INTERGRAPH ISPM, ISIR
COMPRESSION: UNDEFINED
STANDARD_VERSION: 1996 12
METADATA_DATE: 2001 10 17
DATA_FILE_SIZE: 40694808
BYTE_COUNT: 5368
