FILENAME: O4710418.SES.1163232.tif
QUADRANGLE_NAME: ENID
QUADRANT: SE
WEST_LONGITUDE: -104 48 45.00000
EAST_LONGITUDE: -104 45 0.00000
NORTH_LATITUDE: 47 41 15.00000
SOUTH_LATITUDE: 47 37 30.00000
PRODUCTION_DATE: 2001 9 27
RASTER_ORDER: LEFT_RIGHT/TOP_BOTTOM
BAND_ORGANIZATION: SINGLE FILE
BAND_CONTENT: BLACK&WHITE
BAND_CONTENT: UNDEFINED
BAND_CONTENT: UNDEFINED
BITS_PER_PIXEL: 8
SAMPLES_AND_LINES: 5363 7573
HORIZONTAL_DATUM: NAD83
HORIZONTAL_COORDINATE_SYSTEM: UTM
COORDINATE_ZONE: 13
HORIZONTAL_UNITS: meters
HORIZONTAL_RESOLUTION: 1.00000
SECONDARY_HORIZONTAL_DATUM: NAD27
XY_ORIGIN: 513726.00000 5281906.00000
SECONDARY_XY_ORIGIN: 513765.50800 5281685.53400
NATION: US
STATE: MT
NW_QUAD_CORNER_XY: 514070.91300 5281585.12300
NE_QUAD_CORNER_XY: 518761.21500 5281598.36500
SE_QUAD_CORNERY_XY: 518783.61700 5274652.17300
SW_QUAD_CORNER_XY: 514087.71400 5274638.92900
SECONDARY_NW_QUAD_XY: 514071.35300 5281366.32700
SECONDARY_NE_QUAD_XY: 518761.80200 5281379.57000
SECONDARY_SE_QUAD_XY: 518784.20300 5274433.39800
SECONDARY_SW_QUAD_XY: 514088.15400 5274420.15300
RMSE_XY: 2.15000
IMAGE_SOURCE: BLACK AND WHITE FILM
SOURCE_IMAGE_ID: NAPP 9081-042
SOURCE_IMAGE_DATE: 1996 6 12
SOURCE_IMAGE_ID: NAPP 9081-041
SOURCE_IMAGE_DATE: 1996 6 12
SOURCE_IMAGE_ID: NAPP 9080-176
SOURCE_IMAGE_DATE: 1996 6 12
SOURCE_DEM_DATE: 1999 0 0
AGENCY: WESTERN MAPPING CENTER (WMC)
PRODUCER: WOOLPERT LLP
PRODUCTION_SYSTEM: INTERGRAPH ISPM, ISIR
COMPRESSION: UNDEFINED
STANDARD_VERSION: 1996 12
METADATA_DATE: 2001 10 17
DATA_FILE_SIZE: 40619362
BYTE_COUNT: 5363
