FILENAME: O4710418.SWS.1163233.tif
QUADRANGLE_NAME: ENID
QUADRANT: SW
WEST_LONGITUDE: -104 52 30.00000
EAST_LONGITUDE: -104 48 45.00000
NORTH_LATITUDE: 47 41 15.00000
SOUTH_LATITUDE: 47 37 30.00000
PRODUCTION_DATE: 2001 9 27
RASTER_ORDER: LEFT_RIGHT/TOP_BOTTOM
BAND_ORGANIZATION: SINGLE FILE
BAND_CONTENT: BLACK&WHITE
BAND_CONTENT: UNDEFINED
BAND_CONTENT: UNDEFINED
BITS_PER_PIXEL: 8
SAMPLES_AND_LINES: 5357 7568
HORIZONTAL_DATUM: NAD83
HORIZONTAL_COORDINATE_SYSTEM: UTM
COORDINATE_ZONE: 13
HORIZONTAL_UNITS: meters
HORIZONTAL_RESOLUTION: 1.00000
SECONDARY_HORIZONTAL_DATUM: NAD27
XY_ORIGIN: 509036.00000 5281892.00000
SECONDARY_XY_ORIGIN: 509075.55900 5281671.51500
NATION: US
STATE: MT
NW_QUAD_CORNER_XY: 509380.61000 5281575.66400
NE_QUAD_CORNER_XY: 514070.91300 5281585.12300
SE_QUAD_CORNERY_XY: 514087.71400 5274638.92900
SW_QUAD_CORNER_XY: 509391.81000 5274629.46800
SECONDARY_NW_QUAD_XY: 509380.90300 5281356.86800
SECONDARY_NE_QUAD_XY: 514071.35300 5281366.32700
SECONDARY_SE_QUAD_XY: 514088.15400 5274420.15300
SECONDARY_SW_QUAD_XY: 509392.10400 5274410.69200
RMSE_XY: 2.35000
IMAGE_SOURCE: BLACK AND WHITE FILM
SOURCE_IMAGE_ID: NAPP 9124-137
SOURCE_IMAGE_DATE: 1997 8 22
SOURCE_IMAGE_ID: NAPP 9081-132
SOURCE_IMAGE_DATE: 1996 6 12
SOURCE_IMAGE_ID: NAPP 9081-041
SOURCE_IMAGE_DATE: 1996 6 12
SOURCE_DEM_DATE: 1999 0 0
AGENCY: WESTERN MAPPING CENTER (WMC)
PRODUCER: WOOLPERT LLP
PRODUCTION_SYSTEM: INTERGRAPH ISPM, ISIR
COMPRESSION: UNDEFINED
STANDARD_VERSION: 1996 12
METADATA_DATE: 2001 10 17
DATA_FILE_SIZE: 40547133
BYTE_COUNT: 5357
