FILENAME: O4710417.SWS.1163221.tif
QUADRANGLE_NAME: KUESTER LAKE
QUADRANT: SW
WEST_LONGITUDE: -105 0 0.00000
EAST_LONGITUDE: -104 56 15.00000
NORTH_LATITUDE: 47 41 15.00000
SOUTH_LATITUDE: 47 37 30.00000
PRODUCTION_DATE: 2001 9 27
RASTER_ORDER: LEFT_RIGHT/TOP_BOTTOM
BAND_ORGANIZATION: SINGLE FILE
BAND_CONTENT: BLACK&WHITE
BAND_CONTENT: UNDEFINED
BAND_CONTENT: UNDEFINED
BITS_PER_PIXEL: 8
SAMPLES_AND_LINES: 5346 7561
HORIZONTAL_DATUM: NAD83
HORIZONTAL_COORDINATE_SYSTEM: UTM
COORDINATE_ZONE: 13
HORIZONTAL_UNITS: meters
HORIZONTAL_RESOLUTION: 1.00000
SECONDARY_HORIZONTAL_DATUM: NAD27
XY_ORIGIN: 499655.00000 5281877.00000
SECONDARY_XY_ORIGIN: 499694.66300 5281656.48300
NATION: US
STATE: MT
NW_QUAD_CORNER_XY: 500000.00000 5281568.09700
NE_QUAD_CORNER_XY: 504690.30500 5281569.98900
SE_QUAD_CORNERY_XY: 504695.90500 5274623.79200
SW_QUAD_CORNER_XY: 500000.00000 5274621.90000
SECONDARY_NW_QUAD_XY: 500000.00000 5281349.30100
SECONDARY_NE_QUAD_XY: 504690.45200 5281351.19300
SECONDARY_SE_QUAD_XY: 504696.05200 5274405.01600
SECONDARY_SW_QUAD_XY: 500000.00000 5274403.12300
RMSE_XY: 2.25000
IMAGE_SOURCE: BLACK AND WHITE FILM
SOURCE_IMAGE_ID: NAPP 9096-099
SOURCE_IMAGE_DATE: 1996 7 9
SOURCE_DEM_DATE: 1999 0 0
AGENCY: WESTERN MAPPING CENTER (WMC)
PRODUCER: WOOLPERT LLP
PRODUCTION_SYSTEM: INTERGRAPH ISPM, ISIR
COMPRESSION: UNDEFINED
STANDARD_VERSION: 1996 12
METADATA_DATE: 2001 10 17
DATA_FILE_SIZE: 40426452
BYTE_COUNT: 5346
