FILENAME: O4710415.SES.1134925.tif
QUADRANGLE_NAME: FAIRVIEW SW
QUADRANT: SE
WEST_LONGITUDE: -104 11 15.00000
EAST_LONGITUDE: -104 7 30.00000
NORTH_LATITUDE: 47 48 45.00000
SOUTH_LATITUDE: 47 45 0.00000
PRODUCTION_DATE: 2001 3 9
RASTER_ORDER: LEFT_RIGHT/TOP_BOTTOM
BAND_ORGANIZATION: SINGLE FILE
BAND_CONTENT: BLACK&WHITE
BAND_CONTENT: UNDEFINED
BAND_CONTENT: UNDEFINED
BITS_PER_PIXEL: 8
SAMPLES_AND_LINES: 5406 7609
HORIZONTAL_DATUM: NAD83
HORIZONTAL_COORDINATE_SYSTEM: UTM
COORDINATE_ZONE: 13
HORIZONTAL_UNITS: meters
HORIZONTAL_RESOLUTION: 1.00000
SECONDARY_HORIZONTAL_DATUM: NAD27
XY_ORIGIN: 560485.00000 5296138.00000
SECONDARY_XY_ORIGIN: 560523.92800 5295917.61600
NATION: US
STATE: MT
NW_QUAD_CORNER_XY: 560827.94000 5295780.29800
NE_QUAD_CORNER_XY: 565506.97900 5295831.35700
SE_QUAD_CORNERY_XY: 565585.54700 5288885.08500
SW_QUAD_CORNER_XY: 560900.89600 5288834.01600
SECONDARY_NW_QUAD_XY: 560829.84700 5295561.47600
SECONDARY_NE_QUAD_XY: 565509.03200 5295612.53600
SECONDARY_SE_QUAD_XY: 565587.60000 5288666.28200
SECONDARY_SW_QUAD_XY: 560902.80200 5288615.21100
RMSE_XY: 1.98000
IMAGE_SOURCE: BLACK AND WHITE FILM
SOURCE_IMAGE_ID: NAPP 9123-127
SOURCE_IMAGE_DATE: 1997 8 3
SOURCE_DEM_DATE: 2001 1 1
AGENCY: WESTERN MAPPING CENTER (WMC)
PRODUCER: WOOLPERT LLP
PRODUCTION_SYSTEM: INTERGRAPH ISPM, ISIR
COMPRESSION: UNDEFINED
STANDARD_VERSION: 1996 12
METADATA_DATE: 2001 3 9
DATA_FILE_SIZE: 41139660
BYTE_COUNT: 5406
