FILENAME: O4710414.SWS.1134918.tif
QUADRANGLE_NAME: BRORSON
QUADRANT: SW
WEST_LONGITUDE: -104 22 30.00000
EAST_LONGITUDE: -104 18 45.00000
NORTH_LATITUDE: 47 48 45.00000
SOUTH_LATITUDE: 47 45 0.00000
PRODUCTION_DATE: 2001 3 14
RASTER_ORDER: LEFT_RIGHT/TOP_BOTTOM
BAND_ORGANIZATION: SINGLE FILE
BAND_CONTENT: BLACK&WHITE
BAND_CONTENT: UNDEFINED
BAND_CONTENT: UNDEFINED
BITS_PER_PIXEL: 8
SAMPLES_AND_LINES: 5389 7599
HORIZONTAL_DATUM: NAD83
HORIZONTAL_COORDINATE_SYSTEM: UTM
COORDINATE_ZONE: 13
HORIZONTAL_UNITS: meters
HORIZONTAL_RESOLUTION: 1.00000
SECONDARY_HORIZONTAL_DATUM: NAD27
XY_ORIGIN: 546448.00000 5295997.00000
SECONDARY_XY_ORIGIN: 546487.10300 5295776.56400
NATION: US
STATE: MT
NW_QUAD_CORNER_XY: 546790.78500 5295649.81700
NE_QUAD_CORNER_XY: 551469.84300 5295689.52900
SE_QUAD_CORNERY_XY: 551531.57300 5288743.22700
SW_QUAD_CORNER_XY: 546846.90300 5288703.50700
SECONDARY_NW_QUAD_XY: 546792.25200 5295430.99100
SECONDARY_NE_QUAD_XY: 551471.45600 5295470.70400
SECONDARY_SE_QUAD_XY: 551533.18700 5288524.42000
SECONDARY_SW_QUAD_XY: 546848.37000 5288484.69900
RMSE_XY: 1.83000
IMAGE_SOURCE: BLACK AND WHITE FILM
SOURCE_IMAGE_ID: NAPP 9095-082
SOURCE_IMAGE_DATE: 1996 7 9
SOURCE_DEM_DATE: 1999 0 0
AGENCY: WESTERN MAPPING CENTER (WMC)
PRODUCER: WOOLPERT LLP
PRODUCTION_SYSTEM: INTERGRAPH ISPM, ISIR
COMPRESSION: UNDEFINED
STANDARD_VERSION: 1996 12
METADATA_DATE: 2001 3 15
DATA_FILE_SIZE: 40956400
BYTE_COUNT: 5389
