FILENAME: O4710412.NWS.1163252.tif
QUADRANGLE_NAME: THREE BUTTES CREEK EAST
QUADRANT: NW
WEST_LONGITUDE: -104 37 30.00000
EAST_LONGITUDE: -104 33 45.00000
NORTH_LATITUDE: 47 52 30.00000
SOUTH_LATITUDE: 47 48 45.00000
PRODUCTION_DATE: 2001 9 27
RASTER_ORDER: LEFT_RIGHT/TOP_BOTTOM
BAND_ORGANIZATION: SINGLE FILE
BAND_CONTENT: BLACK&WHITE
BAND_CONTENT: UNDEFINED
BAND_CONTENT: UNDEFINED
BITS_PER_PIXEL: 8
SAMPLES_AND_LINES: 5362 7584
HORIZONTAL_DATUM: NAD83
HORIZONTAL_COORDINATE_SYSTEM: UTM
COORDINATE_ZONE: 13
HORIZONTAL_UNITS: meters
HORIZONTAL_RESOLUTION: 1.00000
SECONDARY_HORIZONTAL_DATUM: NAD27
XY_ORIGIN: 527697.00000 5302807.00000
SECONDARY_XY_ORIGIN: 527736.29000 5302586.38900
NATION: US
STATE: MT
NW_QUAD_CORNER_XY: 528040.80200 5302475.20500
NE_QUAD_CORNER_XY: 532714.26000 5302499.78300
SE_QUAD_CORNERY_XY: 532753.58200 5295553.37700
SW_QUAD_CORNER_XY: 528074.50600 5295528.79400
SECONDARY_NW_QUAD_XY: 528041.68200 5302256.35800
SECONDARY_NE_QUAD_XY: 532715.28700 5302280.93600
SECONDARY_SE_QUAD_XY: 532754.60800 5295334.54800
SECONDARY_SW_QUAD_XY: 528075.38600 5295309.96400
RMSE_XY: 2.70000
IMAGE_SOURCE: BLACK AND WHITE FILM
SOURCE_IMAGE_ID: NAPP 9124-132
SOURCE_IMAGE_DATE: 1997 8 22
SOURCE_DEM_DATE: 1999 0 0
AGENCY: WESTERN MAPPING CENTER (WMC)
PRODUCER: WOOLPERT LLP
PRODUCTION_SYSTEM: INTERGRAPH ISPM, ISIR
COMPRESSION: UNDEFINED
STANDARD_VERSION: 1996 12
METADATA_DATE: 2001 10 17
DATA_FILE_SIZE: 40670770
BYTE_COUNT: 5362
