FILENAME: O4710410.NES.1163226.tif
QUADRANGLE_NAME: CARDA COULEE
QUADRANT: NE
WEST_LONGITUDE: -104 48 45.00000
EAST_LONGITUDE: -104 45 0.00000
NORTH_LATITUDE: 47 52 30.00000
SOUTH_LATITUDE: 47 48 45.00000
PRODUCTION_DATE: 2001 9 27
RASTER_ORDER: LEFT_RIGHT/TOP_BOTTOM
BAND_ORGANIZATION: SINGLE FILE
BAND_CONTENT: BLACK&WHITE
BAND_CONTENT: UNDEFINED
BAND_CONTENT: UNDEFINED
BITS_PER_PIXEL: 8
SAMPLES_AND_LINES: 5346 7573
HORIZONTAL_DATUM: NAD83
HORIZONTAL_COORDINATE_SYSTEM: UTM
COORDINATE_ZONE: 13
HORIZONTAL_UNITS: meters
HORIZONTAL_RESOLUTION: 1.00000
SECONDARY_HORIZONTAL_DATUM: NAD27
XY_ORIGIN: 513676.00000 5302745.00000
SECONDARY_XY_ORIGIN: 513715.40700 5302524.31200
NATION: US
STATE: MT
NW_QUAD_CORNER_XY: 514020.40800 5302424.16000
NE_QUAD_CORNER_XY: 518693.87500 5302437.39400
SE_QUAD_CORNERY_XY: 518716.34400 5295490.97500
SW_QUAD_CORNER_XY: 514037.26000 5295477.73800
SECONDARY_NW_QUAD_XY: 514020.84800 5302205.31200
SECONDARY_NE_QUAD_XY: 518694.46200 5302218.54600
SECONDARY_SE_QUAD_XY: 518716.93100 5295272.14400
SECONDARY_SW_QUAD_XY: 514037.70000 5295258.90700
RMSE_XY: 2.66000
IMAGE_SOURCE: BLACK AND WHITE FILM
SOURCE_IMAGE_ID: NAPP 9081-048
SOURCE_IMAGE_DATE: 1996 6 12
SOURCE_DEM_DATE: 1999 0 0
AGENCY: WESTERN MAPPING CENTER (WMC)
PRODUCER: WOOLPERT LLP
PRODUCTION_SYSTEM: INTERGRAPH ISPM, ISIR
COMPRESSION: UNDEFINED
STANDARD_VERSION: 1996 12
METADATA_DATE: 2001 10 17
DATA_FILE_SIZE: 40490604
BYTE_COUNT: 5346
