FILENAME: O4710406.NWS.1134886.tif
QUADRANGLE_NAME: SIOUX PASS
QUADRANT: NW
WEST_LONGITUDE: -104 22 30.00000
EAST_LONGITUDE: -104 18 45.00000
NORTH_LATITUDE: 48 0 0.00000
SOUTH_LATITUDE: 47 56 15.00000
PRODUCTION_DATE: 2001 3 15
RASTER_ORDER: LEFT_RIGHT/TOP_BOTTOM
BAND_ORGANIZATION: SINGLE FILE
BAND_CONTENT: BLACK&WHITE
BAND_CONTENT: UNDEFINED
BAND_CONTENT: UNDEFINED
BITS_PER_PIXEL: 8
SAMPLES_AND_LINES: 5373 7599
HORIZONTAL_DATUM: NAD83
HORIZONTAL_COORDINATE_SYSTEM: UTM
COORDINATE_ZONE: 13
HORIZONTAL_UNITS: meters
HORIZONTAL_RESOLUTION: 1.00000
SECONDARY_HORIZONTAL_DATUM: NAD27
XY_ORIGIN: 546279.00000 5316836.00000
SECONDARY_XY_ORIGIN: 546318.10100 5316615.33300
NATION: US
STATE: MT
NW_QUAD_CORNER_XY: 546622.09400 5316489.19800
NE_QUAD_CORNER_XY: 551284.28200 5316528.88300
SE_QUAD_CORNERY_XY: 551346.19700 5309582.35700
SW_QUAD_CORNER_XY: 546678.38100 5309542.66300
SECONDARY_NW_QUAD_XY: 546623.56100 5316270.32300
SECONDARY_NE_QUAD_XY: 551285.89500 5316310.01000
SECONDARY_SE_QUAD_XY: 551347.81100 5309363.49800
SECONDARY_SW_QUAD_XY: 546679.84800 5309323.80300
RMSE_XY: 2.41000
IMAGE_SOURCE: BLACK AND WHITE FILM
SOURCE_IMAGE_ID: NAPP 9095-088
SOURCE_IMAGE_DATE: 1996 7 9
SOURCE_DEM_DATE: 1999 0 0
AGENCY: WESTERN MAPPING CENTER (WMC)
PRODUCER: WOOLPERT LLP
PRODUCTION_SYSTEM: INTERGRAPH ISPM, ISIR
COMPRESSION: UNDEFINED
STANDARD_VERSION: 1996 12
METADATA_DATE: 2001 3 15
DATA_FILE_SIZE: 40834800
BYTE_COUNT: 5373
