FILENAME: O4710406.SES.1134887.tif
QUADRANGLE_NAME: SIOUX PASS
QUADRANT: SE
WEST_LONGITUDE: -104 18 45.00000
EAST_LONGITUDE: -104 15 0.00000
NORTH_LATITUDE: 47 56 15.00000
SOUTH_LATITUDE: 47 52 30.00000
PRODUCTION_DATE: 2001 3 15
RASTER_ORDER: LEFT_RIGHT/TOP_BOTTOM
BAND_ORGANIZATION: SINGLE FILE
BAND_CONTENT: BLACK&WHITE
BAND_CONTENT: UNDEFINED
BAND_CONTENT: UNDEFINED
BITS_PER_PIXEL: 8
SAMPLES_AND_LINES: 5384 7603
HORIZONTAL_DATUM: NAD83
HORIZONTAL_COORDINATE_SYSTEM: UTM
COORDINATE_ZONE: 13
HORIZONTAL_UNITS: meters
HORIZONTAL_RESOLUTION: 1.00000
SECONDARY_HORIZONTAL_DATUM: NAD27
XY_ORIGIN: 551003.00000 5309933.00000
SECONDARY_XY_ORIGIN: 551042.04800 5309712.43300
NATION: US
STATE: MT
NW_QUAD_CORNER_XY: 551346.19700 5309582.35700
NE_QUAD_CORNER_XY: 556014.00700 5309625.83100
SE_QUAD_CORNERY_XY: 556081.48500 5302679.39000
SW_QUAD_CORNER_XY: 551408.05100 5302635.90500
SECONDARY_NW_QUAD_XY: 551347.81100 5309363.49800
SECONDARY_NE_QUAD_XY: 556015.76800 5309406.97500
SECONDARY_SE_QUAD_XY: 556083.24500 5302460.54900
SECONDARY_SW_QUAD_XY: 551409.66400 5302417.06300
RMSE_XY: 1.96000
IMAGE_SOURCE: BLACK AND WHITE FILM
SOURCE_IMAGE_ID: NAPP 9124-068
SOURCE_IMAGE_DATE: 1997 8 22
SOURCE_DEM_DATE: 1999 0 0
AGENCY: WESTERN MAPPING CENTER (WMC)
PRODUCER: WOOLPERT LLP
PRODUCTION_SYSTEM: INTERGRAPH ISPM, ISIR
COMPRESSION: UNDEFINED
STANDARD_VERSION: 1996 12
METADATA_DATE: 2001 3 15
DATA_FILE_SIZE: 40939936
BYTE_COUNT: 5384
