FILENAME: O4710402.NES.1133022.tif
QUADRANGLE_NAME: ELMDALE
QUADRANT: NE
WEST_LONGITUDE: -104 48 45.00000
EAST_LONGITUDE: -104 45 0.00000
NORTH_LATITUDE: 48 0 0.00000
SOUTH_LATITUDE: 47 56 15.00000
PRODUCTION_DATE: 2001 3 13
RASTER_ORDER: LEFT_RIGHT/TOP_BOTTOM
BAND_ORGANIZATION: SINGLE FILE
BAND_CONTENT: BLACK&WHITE
BAND_CONTENT: UNDEFINED
BAND_CONTENT: UNDEFINED
BITS_PER_PIXEL: 8
SAMPLES_AND_LINES: 5335 7573
HORIZONTAL_DATUM: NAD83
HORIZONTAL_COORDINATE_SYSTEM: UTM
COORDINATE_ZONE: 13
HORIZONTAL_UNITS: meters
HORIZONTAL_RESOLUTION: 1.00000
SECONDARY_HORIZONTAL_DATUM: NAD27
XY_ORIGIN: 513642.00000 5316638.00000
SECONDARY_XY_ORIGIN: 513681.34400 5316417.16300
NATION: US
STATE: MT
NW_QUAD_CORNER_XY: 513986.65400 5316317.23200
NE_QUAD_CORNER_XY: 518648.87000 5316330.46000
SE_QUAD_CORNERY_XY: 518671.38400 5309383.88900
SW_QUAD_CORNER_XY: 514003.54000 5309370.65800
SECONDARY_NW_QUAD_XY: 513987.09400 5316098.35200
SECONDARY_NE_QUAD_XY: 518649.45700 5316111.58000
SECONDARY_SE_QUAD_XY: 518671.97000 5309165.02500
SECONDARY_SW_QUAD_XY: 514003.98000 5309151.79300
RMSE_XY: 1.95000
IMAGE_SOURCE: BLACK AND WHITE FILM
SOURCE_IMAGE_ID: NAPP 9081-052
SOURCE_IMAGE_DATE: 1996 6 12
SOURCE_DEM_DATE: 1999 0 0
AGENCY: WESTERN MAPPING CENTER (WMC)
PRODUCER: WOOLPERT LLP
PRODUCTION_SYSTEM: INTERGRAPH ISPM, ISIR
COMPRESSION: UNDEFINED
STANDARD_VERSION: 1996 12
METADATA_DATE: 2001 3 13
DATA_FILE_SIZE: 40407290
BYTE_COUNT: 5335
