FILENAME: O4710401.NWS.1133011.tif
QUADRANGLE_NAME: ELMDALE NW
QUADRANT: NW
WEST_LONGITUDE: -105 0 0.00000
EAST_LONGITUDE: -104 56 15.00000
NORTH_LATITUDE: 48 0 0.00000
SOUTH_LATITUDE: 47 56 15.00000
PRODUCTION_DATE: 2001 3 13
RASTER_ORDER: LEFT_RIGHT/TOP_BOTTOM
BAND_ORGANIZATION: SINGLE FILE
BAND_CONTENT: BLACK&WHITE
BAND_CONTENT: UNDEFINED
BAND_CONTENT: UNDEFINED
BITS_PER_PIXEL: 8
SAMPLES_AND_LINES: 5318 7562
HORIZONTAL_DATUM: NAD83
HORIZONTAL_COORDINATE_SYSTEM: UTM
COORDINATE_ZONE: 13
HORIZONTAL_UNITS: meters
HORIZONTAL_RESOLUTION: 1.00000
SECONDARY_HORIZONTAL_DATUM: NAD27
XY_ORIGIN: 499655.00000 5316610.00000
SECONDARY_XY_ORIGIN: 499694.45400 5316389.04900
NATION: US
STATE: MT
NW_QUAD_CORNER_XY: 500000.00000 5316300.22400
NE_QUAD_CORNER_XY: 504662.21900 5316302.11400
SE_QUAD_CORNERY_XY: 504667.84700 5309355.53700
SW_QUAD_CORNER_XY: 500000.00000 5309353.64700
SECONDARY_NW_QUAD_XY: 500000.00000 5316081.34400
SECONDARY_NE_QUAD_XY: 504662.36600 5316083.23300
SECONDARY_SE_QUAD_XY: 504667.99400 5309136.67200
SECONDARY_SW_QUAD_XY: 500000.00000 5309134.78200
RMSE_XY: 2.29000
IMAGE_SOURCE: BLACK AND WHITE FILM
SOURCE_IMAGE_ID: NAPP 9096-109
SOURCE_IMAGE_DATE: 1996 7 9
SOURCE_IMAGE_ID: NAPP 9096-173
SOURCE_IMAGE_DATE: 1996 7 9
SOURCE_DEM_DATE: 1999 0 0
AGENCY: WESTERN MAPPING CENTER (WMC)
PRODUCER: WOOLPERT LLP
PRODUCTION_SYSTEM: INTERGRAPH ISPM, ISIR
COMPRESSION: UNDEFINED
STANDARD_VERSION: 1996 12
METADATA_DATE: 2001 3 21
DATA_FILE_SIZE: 40220034
BYTE_COUNT: 5318
