FILENAME: O4710561.NWS.1163875.tif
QUADRANGLE_NAME: NORTH COULEE
QUADRANT: NW
WEST_LONGITUDE: -105 30 0.00000
EAST_LONGITUDE: -105 26 15.00000
NORTH_LATITUDE: 47 7 30.00000
SOUTH_LATITUDE: 47 3 45.00000
PRODUCTION_DATE: 2001 9 11
RASTER_ORDER: LEFT_RIGHT/TOP_BOTTOM
BAND_ORGANIZATION: SINGLE FILE
BAND_CONTENT: BLACK&WHITE
BAND_CONTENT: UNDEFINED
BAND_CONTENT: UNDEFINED
BITS_PER_PIXEL: 8
SAMPLES_AND_LINES: 5438 7586
HORIZONTAL_DATUM: NAD83
HORIZONTAL_COORDINATE_SYSTEM: UTM
COORDINATE_ZONE: 13
HORIZONTAL_UNITS: meters
HORIZONTAL_RESOLUTION: 1.00000
SECONDARY_HORIZONTAL_DATUM: NAD27
XY_ORIGIN: 461684.00000 5219483.00000
SECONDARY_XY_ORIGIN: 461724.67300 5219263.26900
NATION: US
STATE: MT
NW_QUAD_CORNER_XY: 462075.99300 5219176.32700
NE_QUAD_CORNER_XY: 466816.48700 5219147.90500
SE_QUAD_CORNERY_XY: 466777.64000 5212202.40600
SW_QUAD_CORNER_XY: 462031.59600 5212230.83300
SECONDARY_NW_QUAD_XY: 462074.82100 5218957.74100
SECONDARY_NE_QUAD_XY: 466815.46100 5218929.31800
SECONDARY_SE_QUAD_XY: 466776.61400 5211983.84700
SECONDARY_SW_QUAD_XY: 462030.42500 5212012.27500
RMSE_XY: 2.40000
IMAGE_SOURCE: BLACK AND WHITE FILM
SOURCE_IMAGE_ID: NAPP 9093-191
SOURCE_IMAGE_DATE: 1996 7 9
SOURCE_IMAGE_ID: NAPP 9094-026
SOURCE_IMAGE_DATE: 1996 7 9
SOURCE_DEM_DATE: 1999 0 0
AGENCY: WESTERN MAPPING CENTER (WMC)
PRODUCER: WOOLPERT LLP
PRODUCTION_SYSTEM: INTERGRAPH ISPM, ISIR
COMPRESSION: UNDEFINED
STANDARD_VERSION: 1996 12
METADATA_DATE: 2001 9 22
DATA_FILE_SIZE: 41258106
BYTE_COUNT: 5438
