FILENAME: O4710559.SES.1163860.tif
QUADRANGLE_NAME: BIG SHEEP MOUNTAIN
QUADRANT: SE
WEST_LONGITUDE: -105 41 15.00000
EAST_LONGITUDE: -105 37 30.00000
NORTH_LATITUDE: 47 3 45.00000
SOUTH_LATITUDE: 47 0 0.00000
PRODUCTION_DATE: 2001 9 13
RASTER_ORDER: LEFT_RIGHT/TOP_BOTTOM
BAND_ORGANIZATION: SINGLE FILE
BAND_CONTENT: BLACK&WHITE
BAND_CONTENT: UNDEFINED
BAND_CONTENT: UNDEFINED
BITS_PER_PIXEL: 8
SAMPLES_AND_LINES: 5461 7597
HORIZONTAL_DATUM: NAD83
HORIZONTAL_COORDINATE_SYSTEM: UTM
COORDINATE_ZONE: 13
HORIZONTAL_UNITS: meters
HORIZONTAL_RESOLUTION: 1.00000
SECONDARY_HORIZONTAL_DATUM: NAD27
XY_ORIGIN: 447384.00000 5212645.00000
SECONDARY_XY_ORIGIN: 447424.95000 5212425.37200
NATION: US
STATE: MT
NW_QUAD_CORNER_XY: 447793.48600 5212338.85700
NE_QUAD_CORNER_XY: 452539.51900 5212299.05800
SE_QUAD_CORNERY_XY: 452484.07900 5205353.65100
SW_QUAD_CORNER_XY: 447732.50200 5205393.45500
SECONDARY_NW_QUAD_XY: 447791.87500 5212120.30100
SECONDARY_NE_QUAD_XY: 452538.05500 5212080.50200
SECONDARY_SE_QUAD_XY: 452482.61500 5205135.12200
SECONDARY_SW_QUAD_XY: 447730.89100 5205174.92800
RMSE_XY: 1.88000
IMAGE_SOURCE: BLACK AND WHITE FILM
SOURCE_IMAGE_ID: NAPP 9105-073
SOURCE_IMAGE_DATE: 1996 8 1
SOURCE_IMAGE_ID: NAPP 10721-154
SOURCE_IMAGE_DATE: 1997 8 25
SOURCE_IMAGE_ID: NAPP 9105-074
SOURCE_IMAGE_DATE: 1996 8 1
SOURCE_DEM_DATE: 1999 0 0
AGENCY: WESTERN MAPPING CENTER (WMC)
PRODUCER: WOOLPERT LLP
PRODUCTION_SYSTEM: INTERGRAPH ISPM, ISIR
COMPRESSION: UNDEFINED
STANDARD_VERSION: 1996 12
METADATA_DATE: 2001 10 31
DATA_FILE_SIZE: 41492678
BYTE_COUNT: 5461
