FILENAME: O4710555.NWS.1165312.tif
QUADRANGLE_NAME: LINDSAY
QUADRANT: NW
WEST_LONGITUDE: -105 15 0.00000
EAST_LONGITUDE: -105 11 15.00000
NORTH_LATITUDE: 47 15 0.00000
SOUTH_LATITUDE: 47 11 15.00000
PRODUCTION_DATE: 2001 9 26
RASTER_ORDER: LEFT_RIGHT/TOP_BOTTOM
BAND_ORGANIZATION: SINGLE FILE
BAND_CONTENT: BLACK&WHITE
BAND_CONTENT: UNDEFINED
BAND_CONTENT: UNDEFINED
BITS_PER_PIXEL: 8
SAMPLES_AND_LINES: 5403 7571
HORIZONTAL_DATUM: NAD83
HORIZONTAL_COORDINATE_SYSTEM: UTM
COORDINATE_ZONE: 13
HORIZONTAL_UNITS: meters
HORIZONTAL_RESOLUTION: 1.00000
SECONDARY_HORIZONTAL_DATUM: NAD27
XY_ORIGIN: 480714.00000 5233283.00000
SECONDARY_XY_ORIGIN: 480754.30400 5233063.07600
NATION: US
STATE: MT
NW_QUAD_CORNER_XY: 481082.44700 5232976.61900
NE_QUAD_CORNER_XY: 485811.83400 5232963.36000
SE_QUAD_CORNERY_XY: 485795.15200 5226017.69800
SW_QUAD_CORNER_XY: 481060.20400 5226030.96000
SECONDARY_NW_QUAD_XY: 481081.86100 5232757.97900
SECONDARY_NE_QUAD_XY: 485811.39400 5232744.71900
SECONDARY_SE_QUAD_XY: 485794.71200 5225799.08300
SECONDARY_SW_QUAD_XY: 481059.61800 5225812.34500
RMSE_XY: 1.69000
IMAGE_SOURCE: BLACK AND WHITE FILM
SOURCE_IMAGE_ID: NAPP 9119-252
SOURCE_IMAGE_DATE: 1996 8 26
SOURCE_IMAGE_ID: NAPP 9119-251
SOURCE_IMAGE_DATE: 1996 8 26
SOURCE_DEM_DATE: 1999 0 0
AGENCY: WESTERN MAPPING CENTER (WMC)
PRODUCER: WOOLPERT LLP
PRODUCTION_SYSTEM: INTERGRAPH ISPM, ISIR
COMPRESSION: UNDEFINED
STANDARD_VERSION: 1996 12
METADATA_DATE: 2001 10 31
DATA_FILE_SIZE: 40911516
BYTE_COUNT: 5403
