FILENAME: O4710555.SWS.1165314.tif
QUADRANGLE_NAME: LINDSAY
QUADRANT: SW
WEST_LONGITUDE: -105 15 0.00000
EAST_LONGITUDE: -105 11 15.00000
NORTH_LATITUDE: 47 11 15.00000
SOUTH_LATITUDE: 47 7 30.00000
PRODUCTION_DATE: 2001 9 26
RASTER_ORDER: LEFT_RIGHT/TOP_BOTTOM
BAND_ORGANIZATION: SINGLE FILE
BAND_CONTENT: BLACK&WHITE
BAND_CONTENT: UNDEFINED
BAND_CONTENT: UNDEFINED
BITS_PER_PIXEL: 8
SAMPLES_AND_LINES: 5410 7571
HORIZONTAL_DATUM: NAD83
HORIZONTAL_COORDINATE_SYSTEM: UTM
COORDINATE_ZONE: 13
HORIZONTAL_UNITS: meters
HORIZONTAL_RESOLUTION: 1.00000
SECONDARY_HORIZONTAL_DATUM: NAD27
XY_ORIGIN: 480691.00000 5226338.00000
SECONDARY_XY_ORIGIN: 480731.35300 5226118.14400
NATION: US
STATE: MT
NW_QUAD_CORNER_XY: 481060.20400 5226030.96000
NE_QUAD_CORNER_XY: 485795.15200 5226017.69800
SE_QUAD_CORNERY_XY: 485778.48600 5219072.11200
SW_QUAD_CORNER_XY: 481037.98300 5219085.37600
SECONDARY_NW_QUAD_XY: 481059.61800 5225812.34500
SECONDARY_NE_QUAD_XY: 485794.71200 5225799.08300
SECONDARY_SE_QUAD_XY: 485778.04700 5218853.52300
SECONDARY_SW_QUAD_XY: 481037.39700 5218866.78700
RMSE_XY: 2.17000
IMAGE_SOURCE: BLACK AND WHITE FILM
SOURCE_IMAGE_ID: NAPP 9119-250
SOURCE_IMAGE_DATE: 1996 8 26
SOURCE_IMAGE_ID: NAPP 9119-251
SOURCE_IMAGE_DATE: 1996 8 26
SOURCE_DEM_DATE: 1999 0 0
AGENCY: WESTERN MAPPING CENTER (WMC)
PRODUCER: WOOLPERT LLP
PRODUCTION_SYSTEM: INTERGRAPH ISPM, ISIR
COMPRESSION: UNDEFINED
STANDARD_VERSION: 1996 12
METADATA_DATE: 2001 10 31
DATA_FILE_SIZE: 40964520
BYTE_COUNT: 5410
