FILENAME: O4710554.NES.1165299.tif
QUADRANGLE_NAME: UNION SCHOOL
QUADRANT: NE
WEST_LONGITUDE: -105 18 45.00000
EAST_LONGITUDE: -105 15 0.00000
NORTH_LATITUDE: 47 15 0.00000
SOUTH_LATITUDE: 47 11 15.00000
PRODUCTION_DATE: 2001 9 27
RASTER_ORDER: LEFT_RIGHT/TOP_BOTTOM
BAND_ORGANIZATION: SINGLE FILE
BAND_CONTENT: BLACK&WHITE
BAND_CONTENT: UNDEFINED
BAND_CONTENT: UNDEFINED
BITS_PER_PIXEL: 8
SAMPLES_AND_LINES: 5409 7575
HORIZONTAL_DATUM: NAD83
HORIZONTAL_COORDINATE_SYSTEM: UTM
COORDINATE_ZONE: 13
HORIZONTAL_UNITS: meters
HORIZONTAL_RESOLUTION: 1.00000
SECONDARY_HORIZONTAL_DATUM: NAD27
XY_ORIGIN: 475979.00000 5233300.00000
SECONDARY_XY_ORIGIN: 476019.37500 5233080.10000
NATION: US
STATE: MT
NW_QUAD_CORNER_XY: 476353.06300 5232993.66700
NE_QUAD_CORNER_XY: 481082.44700 5232976.61900
SE_QUAD_CORNERY_XY: 481060.20400 5226030.96000
SW_QUAD_CORNER_XY: 476325.25800 5226048.01000
SECONDARY_NW_QUAD_XY: 476352.33000 5232775.02700
SECONDARY_NE_QUAD_XY: 481081.86100 5232757.97900
SECONDARY_SE_QUAD_XY: 481059.61800 5225812.34500
SECONDARY_SW_QUAD_XY: 476324.52600 5225829.39600
RMSE_XY: 2.10000
IMAGE_SOURCE: BLACK AND WHITE FILM
SOURCE_IMAGE_ID: NAPP 9116-193
SOURCE_IMAGE_DATE: 1996 8 27
SOURCE_DEM_DATE: 1999 0 0
AGENCY: WESTERN MAPPING CENTER (WMC)
PRODUCER: WOOLPERT LLP
PRODUCTION_SYSTEM: INTERGRAPH ISPM, ISIR
COMPRESSION: UNDEFINED
STANDARD_VERSION: 1996 12
METADATA_DATE: 2001 9 27
DATA_FILE_SIZE: 40978584
BYTE_COUNT: 5409
