FILENAME: O4710553.SWS.1165290.tif
QUADRANGLE_NAME: DIAMOND G BUTTE NW
QUADRANT: SW
WEST_LONGITUDE: -105 30 0.00000
EAST_LONGITUDE: -105 26 15.00000
NORTH_LATITUDE: 47 11 15.00000
SOUTH_LATITUDE: 47 7 30.00000
PRODUCTION_DATE: 2001 9 27
RASTER_ORDER: LEFT_RIGHT/TOP_BOTTOM
BAND_ORGANIZATION: SINGLE FILE
BAND_CONTENT: BLACK&WHITE
BAND_CONTENT: UNDEFINED
BAND_CONTENT: UNDEFINED
BITS_PER_PIXEL: 8
SAMPLES_AND_LINES: 5432 7587
HORIZONTAL_DATUM: NAD83
HORIZONTAL_COORDINATE_SYSTEM: UTM
COORDINATE_ZONE: 13
HORIZONTAL_UNITS: meters
HORIZONTAL_RESOLUTION: 1.00000
SECONDARY_HORIZONTAL_DATUM: NAD27
XY_ORIGIN: 461729.00000 5226429.00000
SECONDARY_XY_ORIGIN: 461769.63100 5226209.22200
NATION: US
STATE: MT
NW_QUAD_CORNER_XY: 462120.43500 5226121.89600
NE_QUAD_CORNER_XY: 466855.37300 5226093.47800
SE_QUAD_CORNERY_XY: 466816.48700 5219147.90500
SW_QUAD_CORNER_XY: 462075.99300 5219176.32700
SECONDARY_NW_QUAD_XY: 462119.26300 5225903.28400
SECONDARY_NE_QUAD_XY: 466854.34800 5225874.86500
SECONDARY_SE_QUAD_XY: 466815.46100 5218929.31800
SECONDARY_SW_QUAD_XY: 462074.82100 5218957.74100
RMSE_XY: 2.94000
IMAGE_SOURCE: BLACK AND WHITE FILM
SOURCE_IMAGE_ID: NAPP 9093-189
SOURCE_IMAGE_DATE: 1996 7 9
SOURCE_IMAGE_ID: NAPP 9093-188
SOURCE_IMAGE_DATE: 1996 7 9
SOURCE_DEM_DATE: 1999 0 0
AGENCY: WESTERN MAPPING CENTER (WMC)
PRODUCER: WOOLPERT LLP
PRODUCTION_SYSTEM: INTERGRAPH ISPM, ISIR
COMPRESSION: UNDEFINED
STANDARD_VERSION: 1996 12
METADATA_DATE: 2001 10 13
DATA_FILE_SIZE: 41218016
BYTE_COUNT: 5432
