FILENAME: O4710552.SES.1165076.tif
QUADRANGLE_NAME: BEARSHACK CREEK
QUADRANT: SE
WEST_LONGITUDE: -105 33 45.00000
EAST_LONGITUDE: -105 30 0.00000
NORTH_LATITUDE: 47 11 15.00000
SOUTH_LATITUDE: 47 7 30.00000
PRODUCTION_DATE: 2001 10 2
RASTER_ORDER: LEFT_RIGHT/TOP_BOTTOM
BAND_ORGANIZATION: SINGLE FILE
BAND_CONTENT: BLACK&WHITE
BAND_CONTENT: UNDEFINED
BAND_CONTENT: UNDEFINED
BITS_PER_PIXEL: 8
SAMPLES_AND_LINES: 5438 7590
HORIZONTAL_DATUM: NAD83
HORIZONTAL_COORDINATE_SYSTEM: UTM
COORDINATE_ZONE: 13
HORIZONTAL_UNITS: meters
HORIZONTAL_RESOLUTION: 1.00000
SECONDARY_HORIZONTAL_DATUM: NAD27
XY_ORIGIN: 456988.00000 5226461.00000
SECONDARY_XY_ORIGIN: 457028.71200 5226241.25700
NATION: US
STATE: MT
NW_QUAD_CORNER_XY: 457385.50000 5226154.10300
NE_QUAD_CORNER_XY: 462120.43500 5226121.89600
SE_QUAD_CORNERY_XY: 462075.99300 5219176.32700
SW_QUAD_CORNER_XY: 457335.50200 5219208.53900
SECONDARY_NW_QUAD_XY: 457384.18200 5225935.49200
SECONDARY_NE_QUAD_XY: 462119.26300 5225903.28400
SECONDARY_SE_QUAD_XY: 462074.82100 5218957.74100
SECONDARY_SW_QUAD_XY: 457334.18400 5218989.95400
RMSE_XY: 2.30000
IMAGE_SOURCE: BLACK AND WHITE FILM
SOURCE_IMAGE_ID: NAPP 9094-029
SOURCE_IMAGE_DATE: 1996 7 9
SOURCE_DEM_DATE: 1999 0 0
AGENCY: WESTERN MAPPING CENTER (WMC)
PRODUCER: WOOLPERT LLP
PRODUCTION_SYSTEM: INTERGRAPH ISPM, ISIR
COMPRESSION: UNDEFINED
STANDARD_VERSION: 1996 12
METADATA_DATE: 2001 10 2
DATA_FILE_SIZE: 41279858
BYTE_COUNT: 5438
