FILENAME: O4710551.NES.1165062.tif
QUADRANGLE_NAME: BIG SHEEP MOUNTAIN NW
QUADRANT: NE
WEST_LONGITUDE: -105 41 15.00000
EAST_LONGITUDE: -105 37 30.00000
NORTH_LATITUDE: 47 15 0.00000
SOUTH_LATITUDE: 47 11 15.00000
PRODUCTION_DATE: 2001 10 3
RASTER_ORDER: LEFT_RIGHT/TOP_BOTTOM
BAND_ORGANIZATION: SINGLE FILE
BAND_CONTENT: BLACK&WHITE
BAND_CONTENT: UNDEFINED
BAND_CONTENT: UNDEFINED
BITS_PER_PIXEL: 8
SAMPLES_AND_LINES: 5444 7597
HORIZONTAL_DATUM: NAD83
HORIZONTAL_COORDINATE_SYSTEM: UTM
COORDINATE_ZONE: 13
HORIZONTAL_UNITS: meters
HORIZONTAL_RESOLUTION: 1.00000
SECONDARY_HORIZONTAL_DATUM: NAD27
XY_ORIGIN: 447568.00000 5233482.00000
SECONDARY_XY_ORIGIN: 447608.83300 5233262.30400
NATION: US
STATE: MT
NW_QUAD_CORNER_XY: 447976.81400 5233175.51200
NE_QUAD_CORNER_XY: 452706.17900 5233135.73300
SE_QUAD_CORNERY_XY: 452650.56900 5226190.10000
SW_QUAD_CORNER_XY: 447915.64200 5226229.88500
SECONDARY_NW_QUAD_XY: 447975.20200 5232956.87800
SECONDARY_NE_QUAD_XY: 452704.71400 5232917.09700
SECONDARY_SE_QUAD_XY: 452649.10400 5225971.48900
SECONDARY_SW_QUAD_XY: 447914.03100 5226011.27600
RMSE_XY: 2.30000
IMAGE_SOURCE: BLACK AND WHITE FILM
SOURCE_IMAGE_ID: NAPP 9105-079
SOURCE_IMAGE_DATE: 1996 8 1
SOURCE_IMAGE_ID: NAPP 9094-147
SOURCE_IMAGE_DATE: 1996 7 9
SOURCE_DEM_DATE: 1999 0 0
AGENCY: WESTERN MAPPING CENTER (WMC)
PRODUCER: WOOLPERT LLP
PRODUCTION_SYSTEM: INTERGRAPH ISPM, ISIR
COMPRESSION: UNDEFINED
STANDARD_VERSION: 1996 12
METADATA_DATE: 2001 10 24
DATA_FILE_SIZE: 41363512
BYTE_COUNT: 5444
