FILENAME: O4710550.NES.1165050.tif
QUADRANGLE_NAME: WATKINS
QUADRANT: NE
WEST_LONGITUDE: -105 48 45.00000
EAST_LONGITUDE: -105 45 0.00000
NORTH_LATITUDE: 47 15 0.00000
SOUTH_LATITUDE: 47 11 15.00000
PRODUCTION_DATE: 2001 10 5
RASTER_ORDER: LEFT_RIGHT/TOP_BOTTOM
BAND_ORGANIZATION: SINGLE FILE
BAND_CONTENT: BLACK&WHITE
BAND_CONTENT: UNDEFINED
BAND_CONTENT: UNDEFINED
BITS_PER_PIXEL: 8
SAMPLES_AND_LINES: 5456 7605
HORIZONTAL_DATUM: NAD83
HORIZONTAL_COORDINATE_SYSTEM: UTM
COORDINATE_ZONE: 13
HORIZONTAL_UNITS: meters
HORIZONTAL_RESOLUTION: 1.00000
SECONDARY_HORIZONTAL_DATUM: NAD27
XY_ORIGIN: 438097.00000 5233573.00000
SECONDARY_XY_ORIGIN: 438138.02400 5233353.42300
NATION: US
STATE: MT
NW_QUAD_CORNER_XY: 438518.09800 5233266.43700
NE_QUAD_CORNER_XY: 443247.45300 5233219.08000
SE_QUAD_CORNERY_XY: 443180.72000 5226273.46100
SW_QUAD_CORNER_XY: 438445.80300 5226320.82500
SECONDARY_NW_QUAD_XY: 438516.19300 5233047.80600
SECONDARY_NE_QUAD_XY: 443245.69500 5233000.44700
SECONDARY_SE_QUAD_XY: 443178.96200 5226054.85300
SECONDARY_SW_QUAD_XY: 438443.89800 5226102.21900
RMSE_XY: 2.55000
IMAGE_SOURCE: BLACK AND WHITE FILM
SOURCE_IMAGE_ID: NAPP 9086-153
SOURCE_IMAGE_DATE: 1996 6 13
SOURCE_DEM_DATE: 1999 0 0
AGENCY: WESTERN MAPPING CENTER (WMC)
PRODUCER: WOOLPERT LLP
PRODUCTION_SYSTEM: INTERGRAPH ISPM, ISIR
COMPRESSION: UNDEFINED
STANDARD_VERSION: 1996 12
METADATA_DATE: 2001 10 5
DATA_FILE_SIZE: 41498336
BYTE_COUNT: 5456
