FILENAME: O4710550.NWS.1165051.tif
QUADRANGLE_NAME: WATKINS
QUADRANT: NW
WEST_LONGITUDE: -105 52 30.00000
EAST_LONGITUDE: -105 48 45.00000
NORTH_LATITUDE: 47 15 0.00000
SOUTH_LATITUDE: 47 11 15.00000
PRODUCTION_DATE: 2001 10 5
RASTER_ORDER: LEFT_RIGHT/TOP_BOTTOM
BAND_ORGANIZATION: SINGLE FILE
BAND_CONTENT: BLACK&WHITE
BAND_CONTENT: UNDEFINED
BAND_CONTENT: UNDEFINED
BITS_PER_PIXEL: 8
SAMPLES_AND_LINES: 5462 7609
HORIZONTAL_DATUM: NAD83
HORIZONTAL_COORDINATE_SYSTEM: UTM
COORDINATE_ZONE: 13
HORIZONTAL_UNITS: meters
HORIZONTAL_RESOLUTION: 1.00000
SECONDARY_HORIZONTAL_DATUM: NAD27
XY_ORIGIN: 433362.00000 5233624.00000
SECONDARY_XY_ORIGIN: 433403.13100 5233404.49600
NATION: US
STATE: MT
NW_QUAD_CORNER_XY: 433788.74800 5233317.58300
NE_QUAD_CORNER_XY: 438518.09800 5233266.43700
SE_QUAD_CORNERY_XY: 438445.80300 5226320.82500
SW_QUAD_CORNER_XY: 433710.89100 5226371.98000
SECONDARY_NW_QUAD_XY: 433786.69700 5233098.95300
SECONDARY_NE_QUAD_XY: 438516.19300 5233047.80600
SECONDARY_SE_QUAD_XY: 438443.89800 5226102.21900
SECONDARY_SW_QUAD_XY: 433708.84000 5226153.37500
RMSE_XY: 2.70000
IMAGE_SOURCE: BLACK AND WHITE FILM
SOURCE_IMAGE_ID: NAPP 10766-154
SOURCE_IMAGE_DATE: 1998 7 10
SOURCE_DEM_DATE: 1999 0 0
AGENCY: WESTERN MAPPING CENTER (WMC)
PRODUCER: WOOLPERT LLP
PRODUCTION_SYSTEM: INTERGRAPH ISPM, ISIR
COMPRESSION: UNDEFINED
STANDARD_VERSION: 1996 12
METADATA_DATE: 2001 10 5
DATA_FILE_SIZE: 41565820
BYTE_COUNT: 5462
