FILENAME: O4710549.SWS.1165041.tif
QUADRANGLE_NAME: BERRY SCHOOL
QUADRANT: SW
WEST_LONGITUDE: -106 0 0.00000
EAST_LONGITUDE: -105 56 15.00000
NORTH_LATITUDE: 47 11 15.00000
SOUTH_LATITUDE: 47 7 30.00000
PRODUCTION_DATE: 2001 10 8
RASTER_ORDER: LEFT_RIGHT/TOP_BOTTOM
BAND_ORGANIZATION: SINGLE FILE
BAND_CONTENT: BLACK&WHITE
BAND_CONTENT: UNDEFINED
BAND_CONTENT: UNDEFINED
BITS_PER_PIXEL: 8
SAMPLES_AND_LINES: 5478 7616
HORIZONTAL_DATUM: NAD83
HORIZONTAL_COORDINATE_SYSTEM: UTM
COORDINATE_ZONE: 13
HORIZONTAL_UNITS: meters
HORIZONTAL_RESOLUTION: 1.00000
SECONDARY_HORIZONTAL_DATUM: NAD27
XY_ORIGIN: 423803.00000 5226792.00000
SECONDARY_XY_ORIGIN: 423844.40900 5226572.61300
NATION: US
STATE: MT
NW_QUAD_CORNER_XY: 424241.08600 5226485.65800
NE_QUAD_CORNER_XY: 428975.98600 5226426.92400
SE_QUAD_CORNERY_XY: 428892.65200 5219481.40400
SW_QUAD_CORNER_XY: 424152.19600 5219540.14700
SECONDARY_NW_QUAD_XY: 424238.74200 5226267.05700
SECONDARY_NE_QUAD_XY: 428973.78800 5226208.32100
SECONDARY_SE_QUAD_XY: 428890.45400 5219262.82700
SECONDARY_SW_QUAD_XY: 424149.85200 5219321.57300
RMSE_XY: 2.75000
IMAGE_SOURCE: BLACK AND WHITE FILM
SOURCE_IMAGE_ID: NAPP 9088-183
SOURCE_IMAGE_DATE: 1996 7 7
SOURCE_DEM_DATE: 1999 0 0
AGENCY: WESTERN MAPPING CENTER (WMC)
PRODUCER: WOOLPERT LLP
PRODUCTION_SYSTEM: INTERGRAPH ISPM, ISIR
COMPRESSION: UNDEFINED
STANDARD_VERSION: 1996 12
METADATA_DATE: 2001 10 8
DATA_FILE_SIZE: 41725926
BYTE_COUNT: 5478
