FILENAME: O4710548.SES.1165321.tif
QUADRANGLE_NAME: JOHNSON RESERVOIR
QUADRANT: SE
WEST_LONGITUDE: -105 3 45.00000
EAST_LONGITUDE: -105 0 0.00000
NORTH_LATITUDE: 47 18 45.00000
SOUTH_LATITUDE: 47 15 0.00000
PRODUCTION_DATE: 2001 9 27
RASTER_ORDER: LEFT_RIGHT/TOP_BOTTOM
BAND_ORGANIZATION: SINGLE FILE
BAND_CONTENT: BLACK&WHITE
BAND_CONTENT: UNDEFINED
BAND_CONTENT: UNDEFINED
BITS_PER_PIXEL: 8
SAMPLES_AND_LINES: 5380 7560
HORIZONTAL_DATUM: NAD83
HORIZONTAL_COORDINATE_SYSTEM: UTM
COORDINATE_ZONE: 13
HORIZONTAL_UNITS: meters
HORIZONTAL_RESOLUTION: 1.00000
SECONDARY_HORIZONTAL_DATUM: NAD27
XY_ORIGIN: 494925.00000 5240201.00000
SECONDARY_XY_ORIGIN: 494965.02500 5239980.96500
NATION: US
STATE: MT
NW_QUAD_CORNER_XY: 495276.17700 5239893.94700
NE_QUAD_CORNER_XY: 500000.00000 5239892.05300
SE_QUAD_CORNERY_XY: 500000.00000 5232946.31300
SW_QUAD_CORNER_XY: 495270.61100 5232948.20700
SECONDARY_NW_QUAD_XY: 495276.03100 5239675.28100
SECONDARY_NE_QUAD_XY: 500000.00000 5239673.38700
SECONDARY_SE_QUAD_XY: 500000.00000 5232727.67100
SECONDARY_SW_QUAD_XY: 495270.46400 5232729.56500
RMSE_XY: 2.40000
IMAGE_SOURCE: BLACK AND WHITE FILM
SOURCE_IMAGE_ID: NAPP 9096-196
SOURCE_IMAGE_DATE: 1996 7 9
SOURCE_DEM_DATE: 1999 0 0
AGENCY: WESTERN MAPPING CENTER (WMC)
PRODUCER: WOOLPERT LLP
PRODUCTION_SYSTEM: INTERGRAPH ISPM, ISIR
COMPRESSION: UNDEFINED
STANDARD_VERSION: 1996 12
METADATA_DATE: 2001 9 27
DATA_FILE_SIZE: 40678180
BYTE_COUNT: 5380
