FILENAME: O4710547.SES.1165309.tif
QUADRANGLE_NAME: DEER CREEK CHURCH
QUADRANT: SE
WEST_LONGITUDE: -105 11 15.00000
EAST_LONGITUDE: -105 7 30.00000
NORTH_LATITUDE: 47 18 45.00000
SOUTH_LATITUDE: 47 15 0.00000
PRODUCTION_DATE: 2001 9 26
RASTER_ORDER: LEFT_RIGHT/TOP_BOTTOM
BAND_ORGANIZATION: SINGLE FILE
BAND_CONTENT: BLACK&WHITE
BAND_CONTENT: UNDEFINED
BAND_CONTENT: UNDEFINED
BITS_PER_PIXEL: 8
SAMPLES_AND_LINES: 5392 7568
HORIZONTAL_DATUM: NAD83
HORIZONTAL_COORDINATE_SYSTEM: UTM
COORDINATE_ZONE: 13
HORIZONTAL_UNITS: meters
HORIZONTAL_RESOLUTION: 1.00000
SECONDARY_HORIZONTAL_DATUM: NAD27
XY_ORIGIN: 485466.00000 5240216.00000
SECONDARY_XY_ORIGIN: 485506.17100 5239995.98900
NATION: US
STATE: MT
NW_QUAD_CORNER_XY: 485828.53400 5239909.09800
NE_QUAD_CORNER_XY: 490552.35500 5239899.62900
SE_QUAD_CORNERY_XY: 490541.22200 5232953.88900
SW_QUAD_CORNER_XY: 485811.83400 5232963.36000
SECONDARY_NW_QUAD_XY: 485828.09400 5239690.43300
SECONDARY_NE_QUAD_XY: 490552.06200 5239680.96300
SECONDARY_SE_QUAD_XY: 490540.92900 5232735.24800
SECONDARY_SW_QUAD_XY: 485811.39400 5232744.71900
RMSE_XY: 1.89000
IMAGE_SOURCE: BLACK AND WHITE FILM
SOURCE_IMAGE_ID: NAPP 9103-177
SOURCE_IMAGE_DATE: 1996 7 15
SOURCE_DEM_DATE: 1999 0 0
AGENCY: WESTERN MAPPING CENTER (WMC)
PRODUCER: WOOLPERT LLP
PRODUCTION_SYSTEM: INTERGRAPH ISPM, ISIR
COMPRESSION: UNDEFINED
STANDARD_VERSION: 1996 12
METADATA_DATE: 2001 9 26
DATA_FILE_SIZE: 40812048
BYTE_COUNT: 5392
