FILENAME: O4710547.SWS.1165310.tif
QUADRANGLE_NAME: DEER CREEK CHURCH
QUADRANT: SW
WEST_LONGITUDE: -105 15 0.00000
EAST_LONGITUDE: -105 11 15.00000
NORTH_LATITUDE: 47 18 45.00000
SOUTH_LATITUDE: 47 15 0.00000
PRODUCTION_DATE: 2001 9 26
RASTER_ORDER: LEFT_RIGHT/TOP_BOTTOM
BAND_ORGANIZATION: SINGLE FILE
BAND_CONTENT: BLACK&WHITE
BAND_CONTENT: UNDEFINED
BAND_CONTENT: UNDEFINED
BITS_PER_PIXEL: 8
SAMPLES_AND_LINES: 5398 7571
HORIZONTAL_DATUM: NAD83
HORIZONTAL_COORDINATE_SYSTEM: UTM
COORDINATE_ZONE: 13
HORIZONTAL_UNITS: meters
HORIZONTAL_RESOLUTION: 1.00000
SECONDARY_HORIZONTAL_DATUM: NAD27
XY_ORIGIN: 480736.00000 5240229.00000
SECONDARY_XY_ORIGIN: 480776.24400 5240009.00100
NATION: US
STATE: MT
NW_QUAD_CORNER_XY: 481104.71400 5239922.35500
NE_QUAD_CORNER_XY: 485828.53400 5239909.09800
SE_QUAD_CORNERY_XY: 485811.83400 5232963.36000
SW_QUAD_CORNER_XY: 481082.44700 5232976.61900
SECONDARY_NW_QUAD_XY: 481104.12700 5239703.69000
SECONDARY_NE_QUAD_XY: 485828.09400 5239690.43300
SECONDARY_SE_QUAD_XY: 485811.39400 5232744.71900
SECONDARY_SW_QUAD_XY: 481081.86100 5232757.97900
RMSE_XY: 1.79000
IMAGE_SOURCE: BLACK AND WHITE FILM
SOURCE_IMAGE_ID: NAPP 9119-254
SOURCE_IMAGE_DATE: 1996 8 26
SOURCE_DEM_DATE: 1999 0 0
AGENCY: WESTERN MAPPING CENTER (WMC)
PRODUCER: WOOLPERT LLP
PRODUCTION_SYSTEM: INTERGRAPH ISPM, ISIR
COMPRESSION: UNDEFINED
STANDARD_VERSION: 1996 12
METADATA_DATE: 2001 9 26
DATA_FILE_SIZE: 40873656
BYTE_COUNT: 5398
