FILENAME: O4710544.SES.1165072.tif
QUADRANGLE_NAME: QUICK RESERVOIR
QUADRANT: SE
WEST_LONGITUDE: -105 33 45.00000
EAST_LONGITUDE: -105 30 0.00000
NORTH_LATITUDE: 47 18 45.00000
SOUTH_LATITUDE: 47 15 0.00000
PRODUCTION_DATE: 2001 10 2
RASTER_ORDER: LEFT_RIGHT/TOP_BOTTOM
BAND_ORGANIZATION: SINGLE FILE
BAND_CONTENT: BLACK&WHITE
BAND_CONTENT: UNDEFINED
BAND_CONTENT: UNDEFINED
BITS_PER_PIXEL: 8
SAMPLES_AND_LINES: 5427 7590
HORIZONTAL_DATUM: NAD83
HORIZONTAL_COORDINATE_SYSTEM: UTM
COORDINATE_ZONE: 13
HORIZONTAL_UNITS: meters
HORIZONTAL_RESOLUTION: 1.00000
SECONDARY_HORIZONTAL_DATUM: NAD27
XY_ORIGIN: 457088.00000 5240352.00000
SECONDARY_XY_ORIGIN: 457128.59900 5240132.15000
NATION: US
STATE: MT
NW_QUAD_CORNER_XY: 457485.64900 5240045.45700
NE_QUAD_CORNER_XY: 462209.45600 5240013.26100
SE_QUAD_CORNERY_XY: 462164.92300 5233067.54100
SW_QUAD_CORNER_XY: 457435.54900 5233099.74300
SECONDARY_NW_QUAD_XY: 457484.33000 5239826.79600
SECONDARY_NE_QUAD_XY: 462208.28300 5239794.59900
SECONDARY_SE_QUAD_XY: 462163.75000 5232848.90300
SECONDARY_SW_QUAD_XY: 457434.23000 5232881.10600
RMSE_XY: 2.45000
IMAGE_SOURCE: BLACK AND WHITE FILM
SOURCE_IMAGE_ID: NAPP 9094-033
SOURCE_IMAGE_DATE: 1996 7 9
SOURCE_IMAGE_ID: NAPP 9093-186
SOURCE_IMAGE_DATE: 1996 7 9
SOURCE_IMAGE_ID: NAPP 9093-185
SOURCE_IMAGE_DATE: 1996 7 9
SOURCE_IMAGE_ID: NAPP 9093-184
SOURCE_IMAGE_DATE: 1996 7 9
SOURCE_IMAGE_ID: NAPP 9094-145
SOURCE_IMAGE_DATE: 1996 7 9
SOURCE_DEM_DATE: 1999 0 0
AGENCY: WESTERN MAPPING CENTER (WMC)
PRODUCER: WOOLPERT LLP
PRODUCTION_SYSTEM: INTERGRAPH ISPM, ISIR
COMPRESSION: UNDEFINED
STANDARD_VERSION: 1996 12
METADATA_DATE: 2001 10 15
DATA_FILE_SIZE: 41196357
BYTE_COUNT: 5427
