FILENAME: O4710543.SWS.1165061.tif
QUADRANGLE_NAME: CIRCLE SW
QUADRANT: SW
WEST_LONGITUDE: -105 45 0.00000
EAST_LONGITUDE: -105 41 15.00000
NORTH_LATITUDE: 47 18 45.00000
SOUTH_LATITUDE: 47 15 0.00000
PRODUCTION_DATE: 2001 10 3
RASTER_ORDER: LEFT_RIGHT/TOP_BOTTOM
BAND_ORGANIZATION: SINGLE FILE
BAND_CONTENT: BLACK&WHITE
BAND_CONTENT: UNDEFINED
BAND_CONTENT: UNDEFINED
BITS_PER_PIXEL: 8
SAMPLES_AND_LINES: 5445 7601
HORIZONTAL_DATUM: NAD83
HORIZONTAL_COORDINATE_SYSTEM: UTM
COORDINATE_ZONE: 13
HORIZONTAL_UNITS: meters
HORIZONTAL_RESOLUTION: 1.00000
SECONDARY_HORIZONTAL_DATUM: NAD27
XY_ORIGIN: 442899.00000 5240471.00000
SECONDARY_XY_ORIGIN: 442939.83200 5240251.28600
NATION: US
STATE: MT
NW_QUAD_CORNER_XY: 443314.25500 5240164.77500
NE_QUAD_CORNER_XY: 448038.04800 5240121.21400
SE_QUAD_CORNERY_XY: 447976.81400 5233175.51200
SW_QUAD_CORNER_XY: 443247.45300 5233219.08000
SECONDARY_NW_QUAD_XY: 443312.49600 5239946.11700
SECONDARY_NE_QUAD_XY: 448036.43600 5239902.55500
SECONDARY_SE_QUAD_XY: 447975.20200 5232956.87800
SECONDARY_SW_QUAD_XY: 443245.69500 5233000.44700
RMSE_XY: 2.70000
IMAGE_SOURCE: BLACK AND WHITE FILM
SOURCE_IMAGE_ID: NAPP 11000-006
SOURCE_IMAGE_DATE: 1998 7 13
SOURCE_DEM_DATE: 1993 0 0
AGENCY: WESTERN MAPPING CENTER (WMC)
PRODUCER: WOOLPERT LLP
PRODUCTION_SYSTEM: INTERGRAPH ISPM, ISIR
COMPRESSION: UNDEFINED
STANDARD_VERSION: 1996 12
METADATA_DATE: 2001 10 3
DATA_FILE_SIZE: 41392890
BYTE_COUNT: 5445
