FILENAME: O4710542.SWS.1165049.tif
QUADRANGLE_NAME: BROCKWAY
QUADRANT: SW
WEST_LONGITUDE: -105 52 30.00000
EAST_LONGITUDE: -105 48 45.00000
NORTH_LATITUDE: 47 18 45.00000
SOUTH_LATITUDE: 47 15 0.00000
PRODUCTION_DATE: 2001 10 5
RASTER_ORDER: LEFT_RIGHT/TOP_BOTTOM
BAND_ORGANIZATION: SINGLE FILE
BAND_CONTENT: BLACK&WHITE
BAND_CONTENT: UNDEFINED
BAND_CONTENT: UNDEFINED
BITS_PER_PIXEL: 8
SAMPLES_AND_LINES: 5456 7609
HORIZONTAL_DATUM: NAD83
HORIZONTAL_COORDINATE_SYSTEM: UTM
COORDINATE_ZONE: 13
HORIZONTAL_UNITS: meters
HORIZONTAL_RESOLUTION: 1.00000
SECONDARY_HORIZONTAL_DATUM: NAD27
XY_ORIGIN: 433440.00000 5240570.00000
SECONDARY_XY_ORIGIN: 433481.02500 5240350.43200
NATION: US
STATE: MT
NW_QUAD_CORNER_XY: 433866.68400 5240263.26100
NE_QUAD_CORNER_XY: 438590.46700 5240212.12300
SE_QUAD_CORNERY_XY: 438518.09800 5233266.43700
SW_QUAD_CORNER_XY: 433788.74800 5233317.58300
SECONDARY_NW_QUAD_XY: 433864.63300 5240044.60600
SECONDARY_NE_QUAD_XY: 438588.56200 5239993.46700
SECONDARY_SE_QUAD_XY: 438516.19300 5233047.80600
SECONDARY_SW_QUAD_XY: 433786.69700 5233098.95300
RMSE_XY: 2.40000
IMAGE_SOURCE: BLACK AND WHITE FILM
SOURCE_IMAGE_ID: NAPP 9118-007
SOURCE_IMAGE_DATE: 1996 8 27
SOURCE_DEM_DATE: 1999 0 0
AGENCY: WESTERN MAPPING CENTER (WMC)
PRODUCER: WOOLPERT LLP
PRODUCTION_SYSTEM: INTERGRAPH ISPM, ISIR
COMPRESSION: UNDEFINED
STANDARD_VERSION: 1996 12
METADATA_DATE: 2001 11 12
DATA_FILE_SIZE: 41520160
BYTE_COUNT: 5456
