FILENAME: O4710541.NES.1165034.tif
QUADRANGLE_NAME: BEAUTY CREEK
QUADRANT: NE
WEST_LONGITUDE: -105 56 15.00000
EAST_LONGITUDE: -105 52 30.00000
NORTH_LATITUDE: 47 22 30.00000
SOUTH_LATITUDE: 47 18 45.00000
PRODUCTION_DATE: 2001 10 8
RASTER_ORDER: LEFT_RIGHT/TOP_BOTTOM
BAND_ORGANIZATION: SINGLE FILE
BAND_CONTENT: BLACK&WHITE
BAND_CONTENT: UNDEFINED
BAND_CONTENT: UNDEFINED
BITS_PER_PIXEL: 8
SAMPLES_AND_LINES: 5456 7612
HORIZONTAL_DATUM: NAD83
HORIZONTAL_COORDINATE_SYSTEM: UTM
COORDINATE_ZONE: 13
HORIZONTAL_UNITS: meters
HORIZONTAL_RESOLUTION: 1.00000
SECONDARY_HORIZONTAL_DATUM: NAD27
XY_ORIGIN: 428794.00000 5247570.00000
SECONDARY_XY_ORIGIN: 428835.00500 5247350.44200
NATION: US
STATE: MT
NW_QUAD_CORNER_XY: 429226.49700 5247263.92900
NE_QUAD_CORNER_XY: 433944.70000 5247209.01300
SE_QUAD_CORNERY_XY: 433866.68400 5240263.26100
SW_QUAD_CORNER_XY: 429142.90800 5240318.18600
SECONDARY_NW_QUAD_XY: 429224.29900 5247045.25200
SECONDARY_NE_QUAD_XY: 433942.64800 5246990.33400
SECONDARY_SE_QUAD_XY: 433864.63300 5240044.60600
SECONDARY_SW_QUAD_XY: 429140.71000 5240099.53400
RMSE_XY: 2.30000
IMAGE_SOURCE: BLACK AND WHITE FILM
SOURCE_IMAGE_ID: NAPP 9088-085
SOURCE_IMAGE_DATE: 1996 7 7
SOURCE_DEM_DATE: 1999 0 0
AGENCY: WESTERN MAPPING CENTER (WMC)
PRODUCER: WOOLPERT LLP
PRODUCTION_SYSTEM: INTERGRAPH ISPM, ISIR
COMPRESSION: UNDEFINED
STANDARD_VERSION: 1996 12
METADATA_DATE: 2001 10 8
DATA_FILE_SIZE: 41536528
BYTE_COUNT: 5456
